BEGIN:VCALENDAR
VERSION:2.0
PRODID:-//ArtsConnect Virginia - ECPv6.15.20//NONSGML v1.0//EN
CALSCALE:GREGORIAN
METHOD:PUBLISH
X-WR-CALNAME:ArtsConnect Virginia
X-ORIGINAL-URL:https://artsconnectva.org
X-WR-CALDESC:Events for ArtsConnect Virginia
REFRESH-INTERVAL;VALUE=DURATION:PT1H
X-Robots-Tag:noindex
X-PUBLISHED-TTL:PT1H
BEGIN:VTIMEZONE
TZID:America/New_York
BEGIN:DAYLIGHT
TZOFFSETFROM:-0500
TZOFFSETTO:-0400
TZNAME:EDT
DTSTART:20230312T070000
END:DAYLIGHT
BEGIN:STANDARD
TZOFFSETFROM:-0400
TZOFFSETTO:-0500
TZNAME:EST
DTSTART:20231105T060000
END:STANDARD
BEGIN:DAYLIGHT
TZOFFSETFROM:-0500
TZOFFSETTO:-0400
TZNAME:EDT
DTSTART:20240310T070000
END:DAYLIGHT
BEGIN:STANDARD
TZOFFSETFROM:-0400
TZOFFSETTO:-0500
TZNAME:EST
DTSTART:20241103T060000
END:STANDARD
BEGIN:DAYLIGHT
TZOFFSETFROM:-0500
TZOFFSETTO:-0400
TZNAME:EDT
DTSTART:20250309T070000
END:DAYLIGHT
BEGIN:STANDARD
TZOFFSETFROM:-0400
TZOFFSETTO:-0500
TZNAME:EST
DTSTART:20251102T060000
END:STANDARD
END:VTIMEZONE
BEGIN:VEVENT
DTSTART;TZID=America/New_York:20240807T104500
DTEND;TZID=America/New_York:20240807T120000
DTSTAMP:20260421T071504
CREATED:20240722T005140Z
LAST-MODIFIED:20240722T005140Z
UID:11077-1723027500-1723032000@artsconnectva.org
SUMMARY:All the Classics with Cory Laser
DESCRIPTION:
URL:https://artsconnectva.org/event/all-the-classics-with-cory-laser/
LOCATION:VA
CATEGORIES:Outreach Program
END:VEVENT
BEGIN:VEVENT
DTSTART;TZID=America/New_York:20240807T130000
DTEND;TZID=America/New_York:20240807T140000
DTSTAMP:20260421T071504
CREATED:20240707T194808Z
LAST-MODIFIED:20240707T194808Z
UID:11037-1723035600-1723039200@artsconnectva.org
SUMMARY:Countryside Candle Making with Rhona Dawson
DESCRIPTION:View Flyer
URL:https://artsconnectva.org/event/countryside-candle-making-with-rhona-dawson/
LOCATION:VA
CATEGORIES:Outreach Program
END:VEVENT
BEGIN:VEVENT
DTSTART;TZID=America/New_York:20240807T140000
DTEND;TZID=America/New_York:20240807T150000
DTSTAMP:20260421T071504
CREATED:20240626T153927Z
LAST-MODIFIED:20240626T153927Z
UID:10914-1723039200-1723042800@artsconnectva.org
SUMMARY:All of the Favorites with Tom\, Rose\, and Preston
DESCRIPTION:View Flyer
URL:https://artsconnectva.org/event/all-of-the-favorites-with-tom-rose-and-preston/
LOCATION:VA
CATEGORIES:Open to the Public
END:VEVENT
BEGIN:VEVENT
DTSTART;TZID=America/New_York:20240807T140000
DTEND;TZID=America/New_York:20240807T150000
DTSTAMP:20260421T071504
CREATED:20240805T185502Z
LAST-MODIFIED:20240805T185502Z
UID:11464-1723039200-1723042800@artsconnectva.org
SUMMARY:Piano Tunes with Christian Flores
DESCRIPTION:View Flyer
URL:https://artsconnectva.org/event/piano-tunes-with-christian-flores-2/
LOCATION:VA
CATEGORIES:Outreach Program
END:VEVENT
END:VCALENDAR