BEGIN:VCALENDAR
VERSION:2.0
PRODID:-//ArtsConnect Virginia - ECPv6.15.20//NONSGML v1.0//EN
CALSCALE:GREGORIAN
METHOD:PUBLISH
X-WR-CALNAME:ArtsConnect Virginia
X-ORIGINAL-URL:https://artsconnectva.org
X-WR-CALDESC:Events for ArtsConnect Virginia
REFRESH-INTERVAL;VALUE=DURATION:PT1H
X-Robots-Tag:noindex
X-PUBLISHED-TTL:PT1H
BEGIN:VTIMEZONE
TZID:America/New_York
BEGIN:DAYLIGHT
TZOFFSETFROM:-0500
TZOFFSETTO:-0400
TZNAME:EDT
DTSTART:20230312T070000
END:DAYLIGHT
BEGIN:STANDARD
TZOFFSETFROM:-0400
TZOFFSETTO:-0500
TZNAME:EST
DTSTART:20231105T060000
END:STANDARD
BEGIN:DAYLIGHT
TZOFFSETFROM:-0500
TZOFFSETTO:-0400
TZNAME:EDT
DTSTART:20240310T070000
END:DAYLIGHT
BEGIN:STANDARD
TZOFFSETFROM:-0400
TZOFFSETTO:-0500
TZNAME:EST
DTSTART:20241103T060000
END:STANDARD
BEGIN:DAYLIGHT
TZOFFSETFROM:-0500
TZOFFSETTO:-0400
TZNAME:EDT
DTSTART:20250309T070000
END:DAYLIGHT
BEGIN:STANDARD
TZOFFSETFROM:-0400
TZOFFSETTO:-0500
TZNAME:EST
DTSTART:20251102T060000
END:STANDARD
END:VTIMEZONE
BEGIN:VEVENT
DTSTART;TZID=America/New_York:20240730T130000
DTEND;TZID=America/New_York:20240730T140000
DTSTAMP:20260421T071507
CREATED:20240416T174952Z
LAST-MODIFIED:20240416T174952Z
UID:10386-1722344400-1722348000@artsconnectva.org
SUMMARY:TAO: Sing-A-Long with Cory Laser
DESCRIPTION:Famous hits from 50s\, 60s 70s that everyone knows and can easily sing along.
URL:https://artsconnectva.org/event/tao-sing-a-long-with-cory-laser/
LOCATION:VA
CATEGORIES:Outreach Program
END:VEVENT
BEGIN:VEVENT
DTSTART;TZID=America/New_York:20240730T140000
DTEND;TZID=America/New_York:20240730T150000
DTSTAMP:20260421T071507
CREATED:20240417T153626Z
LAST-MODIFIED:20240705T203715Z
UID:10395-1722348000-1722351600@artsconnectva.org
SUMMARY:Summer Zentangle with Aekta Bandodkler
DESCRIPTION:Open to members and allies of the LGBTQ+ community\, 55 years and better. Please call Michelle Reed at (757) 640-0929 x 250  for location and to register. *Space is limited* \nView Flyer
URL:https://artsconnectva.org/event/summer-zentangle-with-aekta-bandodkler/
LOCATION:VA
CATEGORIES:Open to the Public,Outreach Program
END:VEVENT
BEGIN:VEVENT
DTSTART;TZID=America/New_York:20240730T140000
DTEND;TZID=America/New_York:20240730T153000
DTSTAMP:20260421T071507
CREATED:20240624T153350Z
LAST-MODIFIED:20240624T153350Z
UID:10877-1722348000-1722353400@artsconnectva.org
SUMMARY:All the Favorites with Tom & Rose Schlater
DESCRIPTION:
URL:https://artsconnectva.org/event/all-the-favorites-with-tom-rose-schlater/
LOCATION:VA
CATEGORIES:Outreach Program
END:VEVENT
BEGIN:VEVENT
DTSTART;TZID=America/New_York:20240730T150000
DTEND;TZID=America/New_York:20240730T160000
DTSTAMP:20260421T071507
CREATED:20240618T120907Z
LAST-MODIFIED:20240618T120907Z
UID:10787-1722351600-1722355200@artsconnectva.org
SUMMARY:Jam with The Earthtones!
DESCRIPTION:View Flyer
URL:https://artsconnectva.org/event/jam-with-the-earthtones-4/
LOCATION:VA
CATEGORIES:Outreach Program
END:VEVENT
END:VCALENDAR