BEGIN:VCALENDAR
VERSION:2.0
PRODID:-//ArtsConnect Virginia - ECPv6.15.20//NONSGML v1.0//EN
CALSCALE:GREGORIAN
METHOD:PUBLISH
X-WR-CALNAME:ArtsConnect Virginia
X-ORIGINAL-URL:https://artsconnectva.org
X-WR-CALDESC:Events for ArtsConnect Virginia
REFRESH-INTERVAL;VALUE=DURATION:PT1H
X-Robots-Tag:noindex
X-PUBLISHED-TTL:PT1H
BEGIN:VTIMEZONE
TZID:America/New_York
BEGIN:DAYLIGHT
TZOFFSETFROM:-0500
TZOFFSETTO:-0400
TZNAME:EDT
DTSTART:20230312T070000
END:DAYLIGHT
BEGIN:STANDARD
TZOFFSETFROM:-0400
TZOFFSETTO:-0500
TZNAME:EST
DTSTART:20231105T060000
END:STANDARD
BEGIN:DAYLIGHT
TZOFFSETFROM:-0500
TZOFFSETTO:-0400
TZNAME:EDT
DTSTART:20240310T070000
END:DAYLIGHT
BEGIN:STANDARD
TZOFFSETFROM:-0400
TZOFFSETTO:-0500
TZNAME:EST
DTSTART:20241103T060000
END:STANDARD
BEGIN:DAYLIGHT
TZOFFSETFROM:-0500
TZOFFSETTO:-0400
TZNAME:EDT
DTSTART:20250309T070000
END:DAYLIGHT
BEGIN:STANDARD
TZOFFSETFROM:-0400
TZOFFSETTO:-0500
TZNAME:EST
DTSTART:20251102T060000
END:STANDARD
END:VTIMEZONE
BEGIN:VEVENT
DTSTART;TZID=America/New_York:20240729T103000
DTEND;TZID=America/New_York:20240729T113000
DTSTAMP:20260421T071503
CREATED:20240708T155321Z
LAST-MODIFIED:20240708T155321Z
UID:11048-1722249000-1722252600@artsconnectva.org
SUMMARY:Acrylic Paint Pour with Vanessa Golson
DESCRIPTION:
URL:https://artsconnectva.org/event/acrylic-paint-pour-with-vanessa-golson-39/
LOCATION:VA
CATEGORIES:Outreach Program
END:VEVENT
BEGIN:VEVENT
DTSTART;TZID=America/New_York:20240729T104500
DTEND;TZID=America/New_York:20240729T114500
DTSTAMP:20260421T071503
CREATED:20240715T110227Z
LAST-MODIFIED:20240715T110227Z
UID:11062-1722249900-1722253500@artsconnectva.org
SUMMARY:Light In a Bottle with Rhona Dawson
DESCRIPTION:
URL:https://artsconnectva.org/event/light-in-a-bottle-with-rhona-dawson/
LOCATION:VA
CATEGORIES:Outreach Program
END:VEVENT
BEGIN:VEVENT
DTSTART;TZID=America/New_York:20240729T110000
DTEND;TZID=America/New_York:20240729T120000
DTSTAMP:20260421T071503
CREATED:20240703T151710Z
LAST-MODIFIED:20240705T202453Z
UID:10961-1722250800-1722254400@artsconnectva.org
SUMMARY:Poetry Workshop with Synnika Lofton
DESCRIPTION:View Flyer
URL:https://artsconnectva.org/event/poetry-workshop-with-synnika-lofton/
LOCATION:Curtis R. Milteer\, Sr. Recreation Center\, 132 Roberston St\, Suffolk\, VA\, 23438\, United States
CATEGORIES:Open to the Public,Outreach Program
END:VEVENT
BEGIN:VEVENT
DTSTART;TZID=America/New_York:20240729T140000
DTEND;TZID=America/New_York:20240729T150000
DTSTAMP:20260421T071503
CREATED:20240705T202928Z
LAST-MODIFIED:20240705T202928Z
UID:10995-1722261600-1722265200@artsconnectva.org
SUMMARY:Happy Hour with Karen Stowe
DESCRIPTION:Residents will enjoy a relaxing afternoon while listening to beautiful music on the harp!
URL:https://artsconnectva.org/event/happy-hour-with-karen-stowe/
LOCATION:VA
CATEGORIES:Outreach Program
END:VEVENT
BEGIN:VEVENT
DTSTART;TZID=America/New_York:20240729T140000
DTEND;TZID=America/New_York:20240729T150000
DTSTAMP:20260421T071503
CREATED:20240705T203054Z
LAST-MODIFIED:20240705T203054Z
UID:10998-1722261600-1722265200@artsconnectva.org
SUMMARY:Watercolor Painting with Susan Owens
DESCRIPTION:Participants will explore their creativity with this engaging watercolor painting program.
URL:https://artsconnectva.org/event/watercolor-painting-with-susan-owens-2/
LOCATION:VA
CATEGORIES:Outreach Program
END:VEVENT
BEGIN:VEVENT
DTSTART;TZID=America/New_York:20240729T173000
DTEND;TZID=America/New_York:20240729T183000
DTSTAMP:20260421T071503
CREATED:20240618T120059Z
LAST-MODIFIED:20240705T202710Z
UID:10784-1722274200-1722277800@artsconnectva.org
SUMMARY:Magic Potion Bottles with Aekta Bandodker
DESCRIPTION:Open to individuals living with a breast cancer diagnosis. \nPlease call 757-645-2649 for more information. \nView Flyer
URL:https://artsconnectva.org/event/magic-potion-bottles-with-aekta-bandodker/
LOCATION:Here for the Girls\, 1309 Jamestown Rd Suite 204\, Williamsburg\, VA\, 23185\, United States
CATEGORIES:Open to the Public,Outreach Program
END:VEVENT
END:VCALENDAR