BEGIN:VCALENDAR
VERSION:2.0
PRODID:-//ArtsConnect Virginia - ECPv6.15.20//NONSGML v1.0//EN
CALSCALE:GREGORIAN
METHOD:PUBLISH
X-WR-CALNAME:ArtsConnect Virginia
X-ORIGINAL-URL:https://artsconnectva.org
X-WR-CALDESC:Events for ArtsConnect Virginia
REFRESH-INTERVAL;VALUE=DURATION:PT1H
X-Robots-Tag:noindex
X-PUBLISHED-TTL:PT1H
BEGIN:VTIMEZONE
TZID:America/New_York
BEGIN:DAYLIGHT
TZOFFSETFROM:-0500
TZOFFSETTO:-0400
TZNAME:EDT
DTSTART:20230312T070000
END:DAYLIGHT
BEGIN:STANDARD
TZOFFSETFROM:-0400
TZOFFSETTO:-0500
TZNAME:EST
DTSTART:20231105T060000
END:STANDARD
BEGIN:DAYLIGHT
TZOFFSETFROM:-0500
TZOFFSETTO:-0400
TZNAME:EDT
DTSTART:20240310T070000
END:DAYLIGHT
BEGIN:STANDARD
TZOFFSETFROM:-0400
TZOFFSETTO:-0500
TZNAME:EST
DTSTART:20241103T060000
END:STANDARD
BEGIN:DAYLIGHT
TZOFFSETFROM:-0500
TZOFFSETTO:-0400
TZNAME:EDT
DTSTART:20250309T070000
END:DAYLIGHT
BEGIN:STANDARD
TZOFFSETFROM:-0400
TZOFFSETTO:-0500
TZNAME:EST
DTSTART:20251102T060000
END:STANDARD
END:VTIMEZONE
BEGIN:VEVENT
DTSTART;TZID=America/New_York:20240628T103000
DTEND;TZID=America/New_York:20240628T113000
DTSTAMP:20260421T101720
CREATED:20240506T192855Z
LAST-MODIFIED:20240506T192855Z
UID:10595-1719570600-1719574200@artsconnectva.org
SUMMARY:All of the Favorites with Tina and Jim
DESCRIPTION:View Flyer
URL:https://artsconnectva.org/event/all-of-the-favorites-with-tina-and-jim-6/
LOCATION:VA
CATEGORIES:Outreach Program
END:VEVENT
BEGIN:VEVENT
DTSTART;TZID=America/New_York:20240628T140000
DTEND;TZID=America/New_York:20240628T150000
DTSTAMP:20260421T101720
CREATED:20240405T143454Z
LAST-MODIFIED:20240405T143454Z
UID:10310-1719583200-1719586800@artsconnectva.org
SUMMARY:TAO: Happy Hour with Dan Smith
DESCRIPTION:Enjoy a live performance of popular music from the 1940s\, 1950s and 1960s featuring big band\, classic country\, Elvis Presley\, Pat Boone\, and other icons of the era.
URL:https://artsconnectva.org/event/tao-happy-hour-with-dan-smith/
LOCATION:VA
CATEGORIES:Outreach Program
END:VEVENT
BEGIN:VEVENT
DTSTART;TZID=America/New_York:20240628T140000
DTEND;TZID=America/New_York:20240628T150000
DTSTAMP:20260421T101720
CREATED:20240506T190744Z
LAST-MODIFIED:20240506T190744Z
UID:10587-1719583200-1719586800@artsconnectva.org
SUMMARY:Old Time Favorites with Preston\, Tom\, and Rose
DESCRIPTION:Enjoy listening to your favorite well known hits from 1900 to 1975!
URL:https://artsconnectva.org/event/old-time-favorites-with-preston-tom-and-rose-2/
LOCATION:VA
CATEGORIES:Outreach Program
END:VEVENT
BEGIN:VEVENT
DTSTART;TZID=America/New_York:20240628T140000
DTEND;TZID=America/New_York:20240628T150000
DTSTAMP:20260421T101720
CREATED:20240606T025147Z
LAST-MODIFIED:20240606T025147Z
UID:10724-1719583200-1719586800@artsconnectva.org
SUMMARY:Violin Serenade with Alex Marlins
DESCRIPTION:View Flyer
URL:https://artsconnectva.org/event/violin-serenade-with-alex-marlins-20/
LOCATION:VA
CATEGORIES:Outreach Program
END:VEVENT
BEGIN:VEVENT
DTSTART;TZID=America/New_York:20240628T143000
DTEND;TZID=America/New_York:20240628T153000
DTSTAMP:20260421T101720
CREATED:20240606T181437Z
LAST-MODIFIED:20240606T181437Z
UID:10732-1719585000-1719588600@artsconnectva.org
SUMMARY:Stand Up Comedy with Rona Hyman
DESCRIPTION:View Flyer
URL:https://artsconnectva.org/event/stand-up-comedy-with-rona-hyman-5/
LOCATION:VA
CATEGORIES:Outreach Program
END:VEVENT
BEGIN:VEVENT
DTSTART;TZID=America/New_York:20240628T150000
DTEND;TZID=America/New_York:20240628T160000
DTSTAMP:20260421T101720
CREATED:20240411T154444Z
LAST-MODIFIED:20240411T154444Z
UID:10350-1719586800-1719590400@artsconnectva.org
SUMMARY:Beach Tunes with Paul Dickson
DESCRIPTION:Join Paul as he plays all your beach favorites!
URL:https://artsconnectva.org/event/beach-tunes-with-paul-dickson/
LOCATION:VA
CATEGORIES:Outreach Program
END:VEVENT
BEGIN:VEVENT
DTSTART;TZID=America/New_York:20240628T153000
DTEND;TZID=America/New_York:20240628T163000
DTSTAMP:20260421T101720
CREATED:20240506T192241Z
LAST-MODIFIED:20240506T192241Z
UID:10593-1719588600-1719592200@artsconnectva.org
SUMMARY:Famous Hits! with Cory Laser
DESCRIPTION:Enjoy listening to famous hits from 50’s\, 60’s\, and 70’s that everyone knows and can easily sing along!
URL:https://artsconnectva.org/event/famous-hits-with-cory-laser-14/
LOCATION:VA
CATEGORIES:Outreach Program
END:VEVENT
END:VCALENDAR