BEGIN:VCALENDAR
VERSION:2.0
PRODID:-//ArtsConnect Virginia - ECPv6.15.20//NONSGML v1.0//EN
CALSCALE:GREGORIAN
METHOD:PUBLISH
X-ORIGINAL-URL:https://artsconnectva.org
X-WR-CALDESC:Events for ArtsConnect Virginia
REFRESH-INTERVAL;VALUE=DURATION:PT1H
X-Robots-Tag:noindex
X-PUBLISHED-TTL:PT1H
BEGIN:VTIMEZONE
TZID:America/New_York
BEGIN:DAYLIGHT
TZOFFSETFROM:-0500
TZOFFSETTO:-0400
TZNAME:EDT
DTSTART:20230312T070000
END:DAYLIGHT
BEGIN:STANDARD
TZOFFSETFROM:-0400
TZOFFSETTO:-0500
TZNAME:EST
DTSTART:20231105T060000
END:STANDARD
BEGIN:DAYLIGHT
TZOFFSETFROM:-0500
TZOFFSETTO:-0400
TZNAME:EDT
DTSTART:20240310T070000
END:DAYLIGHT
BEGIN:STANDARD
TZOFFSETFROM:-0400
TZOFFSETTO:-0500
TZNAME:EST
DTSTART:20241103T060000
END:STANDARD
BEGIN:DAYLIGHT
TZOFFSETFROM:-0500
TZOFFSETTO:-0400
TZNAME:EDT
DTSTART:20250309T070000
END:DAYLIGHT
BEGIN:STANDARD
TZOFFSETFROM:-0400
TZOFFSETTO:-0500
TZNAME:EST
DTSTART:20251102T060000
END:STANDARD
END:VTIMEZONE
BEGIN:VEVENT
DTSTART;TZID=America/New_York:20240618T130000
DTEND;TZID=America/New_York:20240618T140000
DTSTAMP:20260421T133931
CREATED:20240327T183141Z
LAST-MODIFIED:20240327T183141Z
UID:10122-1718715600-1718719200@artsconnectva.org
SUMMARY:A Musical Potpourri with Karen Stowe
DESCRIPTION:Enjoy listening to beautiful harp music!
URL:https://artsconnectva.org/event/a-musical-potpourri-with-karen-stowe-11/
LOCATION:VA
CATEGORIES:Outreach Program
END:VEVENT
BEGIN:VEVENT
DTSTART;TZID=America/New_York:20240618T133000
DTEND;TZID=America/New_York:20240618T143000
DTSTAMP:20260421T133931
CREATED:20240327T211405Z
LAST-MODIFIED:20240327T211405Z
UID:10136-1718717400-1718721000@artsconnectva.org
SUMMARY:Keep the Beat Social with Chad McGill
DESCRIPTION:Join Chad as he plays a variety of music on the trumpet! From light jazz to The Beatles\, you will find his music has something for everyone!
URL:https://artsconnectva.org/event/keep-the-beat-social-with-chad-mcgill-2/
LOCATION:VA
CATEGORIES:Outreach Program
END:VEVENT
BEGIN:VEVENT
DTSTART;TZID=America/New_York:20240618T140000
DTEND;TZID=America/New_York:20240618T150000
DTSTAMP:20260421T133931
CREATED:20240506T190217Z
LAST-MODIFIED:20240506T190217Z
UID:10585-1718719200-1718722800@artsconnectva.org
SUMMARY:Throwbacks with Bryan Martin
DESCRIPTION:Join Bryan for all of these fun sing-a-longs from the 60s -2000s. Bryan will be singing country\, rock\, bluegrass and spirituals!
URL:https://artsconnectva.org/event/throwbacks-with-bryan-martin-9/
LOCATION:VA
CATEGORIES:Outreach Program
END:VEVENT
BEGIN:VEVENT
DTSTART;TZID=America/New_York:20240618T140000
DTEND;TZID=America/New_York:20240618T150000
DTSTAMP:20260421T133931
CREATED:20240605T142056Z
LAST-MODIFIED:20240605T142056Z
UID:10685-1718719200-1718722800@artsconnectva.org
SUMMARY:Violin Serenade with Alex Marlins
DESCRIPTION:
URL:https://artsconnectva.org/event/violin-serenade-with-alex-marlins-19/
LOCATION:VA
CATEGORIES:Outreach Program
END:VEVENT
END:VCALENDAR