BEGIN:VCALENDAR
VERSION:2.0
PRODID:-//ArtsConnect Virginia - ECPv6.15.20//NONSGML v1.0//EN
CALSCALE:GREGORIAN
METHOD:PUBLISH
X-ORIGINAL-URL:https://artsconnectva.org
X-WR-CALDESC:Events for ArtsConnect Virginia
REFRESH-INTERVAL;VALUE=DURATION:PT1H
X-Robots-Tag:noindex
X-PUBLISHED-TTL:PT1H
BEGIN:VTIMEZONE
TZID:America/New_York
BEGIN:DAYLIGHT
TZOFFSETFROM:-0500
TZOFFSETTO:-0400
TZNAME:EDT
DTSTART:20230312T070000
END:DAYLIGHT
BEGIN:STANDARD
TZOFFSETFROM:-0400
TZOFFSETTO:-0500
TZNAME:EST
DTSTART:20231105T060000
END:STANDARD
BEGIN:DAYLIGHT
TZOFFSETFROM:-0500
TZOFFSETTO:-0400
TZNAME:EDT
DTSTART:20240310T070000
END:DAYLIGHT
BEGIN:STANDARD
TZOFFSETFROM:-0400
TZOFFSETTO:-0500
TZNAME:EST
DTSTART:20241103T060000
END:STANDARD
BEGIN:DAYLIGHT
TZOFFSETFROM:-0500
TZOFFSETTO:-0400
TZNAME:EDT
DTSTART:20250309T070000
END:DAYLIGHT
BEGIN:STANDARD
TZOFFSETFROM:-0400
TZOFFSETTO:-0500
TZNAME:EST
DTSTART:20251102T060000
END:STANDARD
END:VTIMEZONE
BEGIN:VEVENT
DTSTART;TZID=America/New_York:20240614T103000
DTEND;TZID=America/New_York:20240614T113000
DTSTAMP:20260421T102041
CREATED:20240506T184655Z
LAST-MODIFIED:20240506T184655Z
UID:10575-1718361000-1718364600@artsconnectva.org
SUMMARY:Bottle Wall Opener with Rhona Dawson
DESCRIPTION:View Flyer
URL:https://artsconnectva.org/event/bottle-wall-opener-with-rhona-dawson/
LOCATION:VA
CATEGORIES:Outreach Program
END:VEVENT
BEGIN:VEVENT
DTSTART;TZID=America/New_York:20240614T110000
DTEND;TZID=America/New_York:20240614T120000
DTSTAMP:20260421T102041
CREATED:20240604T184649Z
LAST-MODIFIED:20240604T184649Z
UID:10672-1718362800-1718366400@artsconnectva.org
SUMMARY:All of the Favorites with Cory Laser
DESCRIPTION:
URL:https://artsconnectva.org/event/all-of-the-favorites-with-cory-laser-5/
LOCATION:VA
CATEGORIES:Outreach Program
END:VEVENT
BEGIN:VEVENT
DTSTART;TZID=America/New_York:20240614T140000
DTEND;TZID=America/New_York:20240614T150000
DTSTAMP:20260421T102041
CREATED:20240405T143127Z
LAST-MODIFIED:20240405T143127Z
UID:10308-1718373600-1718377200@artsconnectva.org
SUMMARY:TAO: Happy Hour with Tina and Jim
DESCRIPTION:Tina and Jim provide interactive singalongs with favorites including jazz standards\, acoustic favorites\, and even some show tunes!
URL:https://artsconnectva.org/event/tao-happy-hour-with-tina-and-jim/
LOCATION:VA
CATEGORIES:Outreach Program
END:VEVENT
BEGIN:VEVENT
DTSTART;TZID=America/New_York:20240614T140000
DTEND;TZID=America/New_York:20240614T150000
DTSTAMP:20260421T102041
CREATED:20240523T161730Z
LAST-MODIFIED:20240523T161730Z
UID:10658-1718373600-1718377200@artsconnectva.org
SUMMARY:All the Favorites with Adrienne & Jamie
DESCRIPTION:View Flyer
URL:https://artsconnectva.org/event/all-the-favorites-with-adrienne-jamie/
LOCATION:VA
CATEGORIES:Outreach Program
END:VEVENT
BEGIN:VEVENT
DTSTART;TZID=America/New_York:20240614T150000
DTEND;TZID=America/New_York:20240614T160000
DTSTAMP:20260421T102041
CREATED:20240506T183133Z
LAST-MODIFIED:20240506T183133Z
UID:10571-1718377200-1718380800@artsconnectva.org
SUMMARY:Oldies and Goodies with Karen Stowe
DESCRIPTION:Enjoy all your favorite songs played on the harp by Karen Stowe!
URL:https://artsconnectva.org/event/oldies-and-goodies-with-karen-stowe/
LOCATION:VA
CATEGORIES:Outreach Program
END:VEVENT
BEGIN:VEVENT
DTSTART;TZID=America/New_York:20240614T150000
DTEND;TZID=America/New_York:20240614T170000
DTSTAMP:20260421T102041
CREATED:20240523T155639Z
LAST-MODIFIED:20240523T155639Z
UID:10655-1718377200-1718384400@artsconnectva.org
SUMMARY:All American BBQ Pool Party with Tom\, Rose\, and Preston
DESCRIPTION:View Flyer
URL:https://artsconnectva.org/event/all-american-bbq-pool-party-with-tom-rose-and-preston/
LOCATION:VA
CATEGORIES:Outreach Program
END:VEVENT
BEGIN:VEVENT
DTSTART;TZID=America/New_York:20240614T173000
DTEND;TZID=America/New_York:20240614T183000
DTSTAMP:20260421T102041
CREATED:20240604T183844Z
LAST-MODIFIED:20240604T183844Z
UID:10670-1718386200-1718389800@artsconnectva.org
SUMMARY:Awesome Autistic Adults Art Program with Village Studio Arts
DESCRIPTION:
URL:https://artsconnectva.org/event/awesome-autistic-adults-art-program-with-village-studio-arts/
LOCATION:VA
CATEGORIES:Outreach Program
END:VEVENT
END:VCALENDAR