BEGIN:VCALENDAR
VERSION:2.0
PRODID:-//ArtsConnect Virginia - ECPv6.15.20//NONSGML v1.0//EN
CALSCALE:GREGORIAN
METHOD:PUBLISH
X-WR-CALNAME:ArtsConnect Virginia
X-ORIGINAL-URL:https://artsconnectva.org
X-WR-CALDESC:Events for ArtsConnect Virginia
REFRESH-INTERVAL;VALUE=DURATION:PT1H
X-Robots-Tag:noindex
X-PUBLISHED-TTL:PT1H
BEGIN:VTIMEZONE
TZID:America/New_York
BEGIN:DAYLIGHT
TZOFFSETFROM:-0500
TZOFFSETTO:-0400
TZNAME:EDT
DTSTART:20230312T070000
END:DAYLIGHT
BEGIN:STANDARD
TZOFFSETFROM:-0400
TZOFFSETTO:-0500
TZNAME:EST
DTSTART:20231105T060000
END:STANDARD
BEGIN:DAYLIGHT
TZOFFSETFROM:-0500
TZOFFSETTO:-0400
TZNAME:EDT
DTSTART:20240310T070000
END:DAYLIGHT
BEGIN:STANDARD
TZOFFSETFROM:-0400
TZOFFSETTO:-0500
TZNAME:EST
DTSTART:20241103T060000
END:STANDARD
BEGIN:DAYLIGHT
TZOFFSETFROM:-0500
TZOFFSETTO:-0400
TZNAME:EDT
DTSTART:20250309T070000
END:DAYLIGHT
BEGIN:STANDARD
TZOFFSETFROM:-0400
TZOFFSETTO:-0500
TZNAME:EST
DTSTART:20251102T060000
END:STANDARD
END:VTIMEZONE
BEGIN:VEVENT
DTSTART;TZID=America/New_York:20240524T103000
DTEND;TZID=America/New_York:20240524T113000
DTSTAMP:20260421T115717
CREATED:20240402T153828Z
LAST-MODIFIED:20240402T153828Z
UID:10178-1716546600-1716550200@artsconnectva.org
SUMMARY:Rock Painting with Adrienne Searle
DESCRIPTION:Join Adrienne in paint some beautiful kindness rocks!
URL:https://artsconnectva.org/event/rock-painting-with-adrienne-searle/
LOCATION:VA
CATEGORIES:Outreach Program
END:VEVENT
BEGIN:VEVENT
DTSTART;TZID=America/New_York:20240524T140000
DTEND;TZID=America/New_York:20240524T150000
DTSTAMP:20260421T115717
CREATED:20240306T195922Z
LAST-MODIFIED:20240306T195922Z
UID:9983-1716559200-1716562800@artsconnectva.org
SUMMARY:Happy Hour with Lyle and Linda Dowling
DESCRIPTION:Join Lyle and Linda as they perform a combination of styles of music from the 1940s-1980s! You will not want to miss this!
URL:https://artsconnectva.org/event/happy-hour-with-lyle-and-linda-dowling-5/
LOCATION:VA
CATEGORIES:Outreach Program
END:VEVENT
BEGIN:VEVENT
DTSTART;TZID=America/New_York:20240524T140000
DTEND;TZID=America/New_York:20240524T150000
DTSTAMP:20260421T115717
CREATED:20240411T151056Z
LAST-MODIFIED:20240411T151056Z
UID:10331-1716559200-1716562800@artsconnectva.org
SUMMARY:Mosaic Tape Painting with Adreinne Searle
DESCRIPTION:Join Adrienne in making a mosaic tape painting!
URL:https://artsconnectva.org/event/mosaic-tape-painting-with-adreinne-searle-2/
LOCATION:VA
CATEGORIES:Outreach Program
END:VEVENT
BEGIN:VEVENT
DTSTART;TZID=America/New_York:20240524T143000
DTEND;TZID=America/New_York:20240524T153000
DTSTAMP:20260421T115717
CREATED:20240402T153421Z
LAST-MODIFIED:20240402T153421Z
UID:10176-1716561000-1716564600@artsconnectva.org
SUMMARY:Music through the Decades with Karen Stowe
DESCRIPTION:Enjoy listening to beautiful and elegant harp music!
URL:https://artsconnectva.org/event/music-through-the-decades-with-karen-stowe/
LOCATION:VA
CATEGORIES:Outreach Program
END:VEVENT
BEGIN:VEVENT
DTSTART;TZID=America/New_York:20240524T150000
DTEND;TZID=America/New_York:20240524T160000
DTSTAMP:20260421T115717
CREATED:20240410T145648Z
LAST-MODIFIED:20240410T145648Z
UID:10318-1716562800-1716566400@artsconnectva.org
SUMMARY:All of the Favorites with Dan Smith
DESCRIPTION:Enjoy live performance of popular music from the 1940s\, 1950s and 1960s featuring big band\, classic country\, Elvis Presley\, Pat Boone\, and other icons of the era. Performances feature vocals with electronic keyboard and saxophone.
URL:https://artsconnectva.org/event/all-of-the-favorites-with-dan-smith-30/
LOCATION:VA
CATEGORIES:Outreach Program
END:VEVENT
END:VCALENDAR