BEGIN:VCALENDAR
VERSION:2.0
PRODID:-//ArtsConnect Virginia - ECPv6.15.20//NONSGML v1.0//EN
CALSCALE:GREGORIAN
METHOD:PUBLISH
X-ORIGINAL-URL:https://artsconnectva.org
X-WR-CALDESC:Events for ArtsConnect Virginia
REFRESH-INTERVAL;VALUE=DURATION:PT1H
X-Robots-Tag:noindex
X-PUBLISHED-TTL:PT1H
BEGIN:VTIMEZONE
TZID:America/New_York
BEGIN:DAYLIGHT
TZOFFSETFROM:-0500
TZOFFSETTO:-0400
TZNAME:EDT
DTSTART:20230312T070000
END:DAYLIGHT
BEGIN:STANDARD
TZOFFSETFROM:-0400
TZOFFSETTO:-0500
TZNAME:EST
DTSTART:20231105T060000
END:STANDARD
BEGIN:DAYLIGHT
TZOFFSETFROM:-0500
TZOFFSETTO:-0400
TZNAME:EDT
DTSTART:20240310T070000
END:DAYLIGHT
BEGIN:STANDARD
TZOFFSETFROM:-0400
TZOFFSETTO:-0500
TZNAME:EST
DTSTART:20241103T060000
END:STANDARD
BEGIN:DAYLIGHT
TZOFFSETFROM:-0500
TZOFFSETTO:-0400
TZNAME:EDT
DTSTART:20250309T070000
END:DAYLIGHT
BEGIN:STANDARD
TZOFFSETFROM:-0400
TZOFFSETTO:-0500
TZNAME:EST
DTSTART:20251102T060000
END:STANDARD
END:VTIMEZONE
BEGIN:VEVENT
DTSTART;TZID=America/New_York:20240522T100000
DTEND;TZID=America/New_York:20240522T110000
DTSTAMP:20260421T120016
CREATED:20240402T150030Z
LAST-MODIFIED:20240402T150030Z
UID:10164-1716372000-1716375600@artsconnectva.org
SUMMARY:Trumpet Tunes with Chad McGill
DESCRIPTION:Join Chad as he plays a variety of music on the trumpet! From light jazz to The Beatles\, you will find his music has something for everyone!
URL:https://artsconnectva.org/event/trumpet-tunes-with-chad-mcgill-13/
LOCATION:VA
CATEGORIES:Outreach Program
END:VEVENT
BEGIN:VEVENT
DTSTART;TZID=America/New_York:20240522T110000
DTEND;TZID=America/New_York:20240522T130000
DTSTAMP:20260421T120016
CREATED:20240416T160537Z
LAST-MODIFIED:20240422T165348Z
UID:10361-1716375600-1716382800@artsconnectva.org
SUMMARY:Jam with The Earthtones!
DESCRIPTION:The EarthTones\, a 5-piece rock band\, will sing songs from the 1960’s and engage the audience with rhythm instruments\, sing-alongs\, and dancing/movement.
URL:https://artsconnectva.org/event/famous-hits-with-cory-laser-10/
LOCATION:VA
CATEGORIES:Outreach Program
END:VEVENT
BEGIN:VEVENT
DTSTART;TZID=America/New_York:20240522T113000
DTEND;TZID=America/New_York:20240522T140000
DTSTAMP:20260421T120016
CREATED:20240402T151159Z
LAST-MODIFIED:20240402T151159Z
UID:10166-1716377400-1716386400@artsconnectva.org
SUMMARY:Older American Month Wellness Vendor Fair with Dan Smith and Bryan Martin
DESCRIPTION:11:30AM – Enjoy all your favorite Country\, Bluegrass\, 70\, 80\, and 90’s hits live with Bryan Martin! \n1PM: Join Dan Smith for a live performance of popular music from the 1940s\, 1950s\, and 1960s featuring big band\, classic country\, Elvis Presley\, Pat Boone\, and other icons of the era. Performances feature vocals with electronic keyboard and saxophone.
URL:https://artsconnectva.org/event/older-american-month-wellness-vendor-fair-with-dan-smith-and-bryan-martin/
LOCATION:VA
CATEGORIES:Outreach Program
END:VEVENT
BEGIN:VEVENT
DTSTART;TZID=America/New_York:20240522T140000
DTEND;TZID=America/New_York:20240522T150000
DTSTAMP:20260421T120016
CREATED:20240417T152020Z
LAST-MODIFIED:20240417T152020Z
UID:10390-1716386400-1716390000@artsconnectva.org
SUMMARY:All of the Favorites with Dan Smith
DESCRIPTION:Enjoy live performance of popular music from the 1940s\, 1950s and 1960s featuring big band\, classic country\, Elvis Presley\, Pat Boone\, and other icons of the era. Performances feature vocals with electronic keyboard and saxophone.
URL:https://artsconnectva.org/event/all-of-the-favorites-with-dan-smith-33/
LOCATION:VA
CATEGORIES:Outreach Program
END:VEVENT
END:VCALENDAR