BEGIN:VCALENDAR
VERSION:2.0
PRODID:-//ArtsConnect Virginia - ECPv6.15.20//NONSGML v1.0//EN
CALSCALE:GREGORIAN
METHOD:PUBLISH
X-WR-CALNAME:ArtsConnect Virginia
X-ORIGINAL-URL:https://artsconnectva.org
X-WR-CALDESC:Events for ArtsConnect Virginia
REFRESH-INTERVAL;VALUE=DURATION:PT1H
X-Robots-Tag:noindex
X-PUBLISHED-TTL:PT1H
BEGIN:VTIMEZONE
TZID:America/New_York
BEGIN:DAYLIGHT
TZOFFSETFROM:-0500
TZOFFSETTO:-0400
TZNAME:EDT
DTSTART:20230312T070000
END:DAYLIGHT
BEGIN:STANDARD
TZOFFSETFROM:-0400
TZOFFSETTO:-0500
TZNAME:EST
DTSTART:20231105T060000
END:STANDARD
BEGIN:DAYLIGHT
TZOFFSETFROM:-0500
TZOFFSETTO:-0400
TZNAME:EDT
DTSTART:20240310T070000
END:DAYLIGHT
BEGIN:STANDARD
TZOFFSETFROM:-0400
TZOFFSETTO:-0500
TZNAME:EST
DTSTART:20241103T060000
END:STANDARD
BEGIN:DAYLIGHT
TZOFFSETFROM:-0500
TZOFFSETTO:-0400
TZNAME:EDT
DTSTART:20250309T070000
END:DAYLIGHT
BEGIN:STANDARD
TZOFFSETFROM:-0400
TZOFFSETTO:-0500
TZNAME:EST
DTSTART:20251102T060000
END:STANDARD
END:VTIMEZONE
BEGIN:VEVENT
DTSTART;TZID=America/New_York:20240517T133000
DTEND;TZID=America/New_York:20240517T143000
DTSTAMP:20260421T115650
CREATED:20240430T143934Z
LAST-MODIFIED:20240430T143934Z
UID:10508-1715952600-1715956200@artsconnectva.org
SUMMARY:Famous Hits! with Cory Laser
DESCRIPTION:Enjoy listening to famous hits from 50’s\, 60’s\, and 70’s that everyone knows and can easily sing along!
URL:https://artsconnectva.org/event/famous-hits-with-cory-laser-13/
LOCATION:VA
CATEGORIES:Outreach Program
END:VEVENT
BEGIN:VEVENT
DTSTART;TZID=America/New_York:20240517T140000
DTEND;TZID=America/New_York:20240517T150000
DTSTAMP:20260421T115650
CREATED:20240402T145525Z
LAST-MODIFIED:20240402T145525Z
UID:10162-1715954400-1715958000@artsconnectva.org
SUMMARY:All of the Favorites with Adreinne and Jamie
DESCRIPTION:Join Adrienne and Jamie as they play your favorite throwback tunes!
URL:https://artsconnectva.org/event/all-of-the-favorites-with-adreinne-and-jamie-4/
LOCATION:VA
CATEGORIES:Outreach Program
END:VEVENT
BEGIN:VEVENT
DTSTART;TZID=America/New_York:20240517T140000
DTEND;TZID=America/New_York:20240517T150000
DTSTAMP:20260421T115650
CREATED:20240410T174222Z
LAST-MODIFIED:20240410T174222Z
UID:10320-1715954400-1715958000@artsconnectva.org
SUMMARY:Favorite Throwbacks! with Art Rowe
DESCRIPTION:View Flyer
URL:https://artsconnectva.org/event/favorite-throwbacks-with-art-rowe-14/
LOCATION:VA
CATEGORIES:Outreach Program
END:VEVENT
BEGIN:VEVENT
DTSTART;TZID=America/New_York:20240517T143000
DTEND;TZID=America/New_York:20240517T153000
DTSTAMP:20260421T115650
CREATED:20240429T175954Z
LAST-MODIFIED:20240502T154935Z
UID:10505-1715956200-1715959800@artsconnectva.org
SUMMARY:Drumming Fun with Jean Howard
DESCRIPTION:View Flyer
URL:https://artsconnectva.org/event/drumming-fun-with-jean-howard/
LOCATION:VA
CATEGORIES:Outreach Program
END:VEVENT
BEGIN:VEVENT
DTSTART;TZID=America/New_York:20240517T143000
DTEND;TZID=America/New_York:20240517T153000
DTSTAMP:20260421T115650
CREATED:20240506T181325Z
LAST-MODIFIED:20240506T181325Z
UID:10564-1715956200-1715959800@artsconnectva.org
SUMMARY:Sock Hop with Dan Smith
DESCRIPTION:Enjoy a live performance of popular music from the 1940s\, 1950s and 1960s featuring big band\, classic country\, Elvis Presley\, Pat Boone\, and other icons of the era.
URL:https://artsconnectva.org/event/sock-hop-with-dan-smith/
LOCATION:VA
CATEGORIES:Outreach Program
END:VEVENT
BEGIN:VEVENT
DTSTART;TZID=America/New_York:20240517T150000
DTEND;TZID=America/New_York:20240517T160000
DTSTAMP:20260421T115650
CREATED:20240423T140434Z
LAST-MODIFIED:20240423T140434Z
UID:10474-1715958000-1715961600@artsconnectva.org
SUMMARY:Throwbacks with Denise Mcleese
DESCRIPTION:Enjoy familiar tunes from a variety of genre\, with music from the 50’s through the 70’s!
URL:https://artsconnectva.org/event/throwbacks-with-denise-mcleese/
LOCATION:VA
CATEGORIES:Outreach Program
END:VEVENT
BEGIN:VEVENT
DTSTART;TZID=America/New_York:20240517T153000
DTEND;TZID=America/New_York:20240517T163000
DTSTAMP:20260421T115650
CREATED:20240422T180627Z
LAST-MODIFIED:20240510T144938Z
UID:10446-1715959800-1715963400@artsconnectva.org
SUMMARY:The Classics with Mary M Saunders
DESCRIPTION:Join Mary as she plays music from the 40s to the 80s!
URL:https://artsconnectva.org/event/the-classics-with-jimmy-g-sings-5/
LOCATION:VA
CATEGORIES:Outreach Program
END:VEVENT
END:VCALENDAR