BEGIN:VCALENDAR
VERSION:2.0
PRODID:-//ArtsConnect Virginia - ECPv6.15.20//NONSGML v1.0//EN
CALSCALE:GREGORIAN
METHOD:PUBLISH
X-WR-CALNAME:ArtsConnect Virginia
X-ORIGINAL-URL:https://artsconnectva.org
X-WR-CALDESC:Events for ArtsConnect Virginia
REFRESH-INTERVAL;VALUE=DURATION:PT1H
X-Robots-Tag:noindex
X-PUBLISHED-TTL:PT1H
BEGIN:VTIMEZONE
TZID:America/New_York
BEGIN:DAYLIGHT
TZOFFSETFROM:-0500
TZOFFSETTO:-0400
TZNAME:EDT
DTSTART:20230312T070000
END:DAYLIGHT
BEGIN:STANDARD
TZOFFSETFROM:-0400
TZOFFSETTO:-0500
TZNAME:EST
DTSTART:20231105T060000
END:STANDARD
BEGIN:DAYLIGHT
TZOFFSETFROM:-0500
TZOFFSETTO:-0400
TZNAME:EDT
DTSTART:20240310T070000
END:DAYLIGHT
BEGIN:STANDARD
TZOFFSETFROM:-0400
TZOFFSETTO:-0500
TZNAME:EST
DTSTART:20241103T060000
END:STANDARD
BEGIN:DAYLIGHT
TZOFFSETFROM:-0500
TZOFFSETTO:-0400
TZNAME:EDT
DTSTART:20250309T070000
END:DAYLIGHT
BEGIN:STANDARD
TZOFFSETFROM:-0400
TZOFFSETTO:-0500
TZNAME:EST
DTSTART:20251102T060000
END:STANDARD
END:VTIMEZONE
BEGIN:VEVENT
DTSTART;TZID=America/New_York:20240514T130000
DTEND;TZID=America/New_York:20240514T140000
DTSTAMP:20260421T145402
CREATED:20240226T221544Z
LAST-MODIFIED:20240226T221544Z
UID:9915-1715691600-1715695200@artsconnectva.org
SUMMARY:Singing and Smiling with David Jones and Bryan Martin
DESCRIPTION:David and Bryan’s sole objective is to interact with the audience via talking and singing with them and most important putting a “Smile” on their Face! They will be singing a variety of music including country and classic rock.
URL:https://artsconnectva.org/event/singing-and-smiling-with-david-jones-and-bryan-martin-3/
LOCATION:VA
CATEGORIES:Outreach Program
END:VEVENT
BEGIN:VEVENT
DTSTART;TZID=America/New_York:20240514T133000
DTEND;TZID=America/New_York:20240514T143000
DTSTAMP:20260421T145402
CREATED:20240227T151903Z
LAST-MODIFIED:20240227T151903Z
UID:9926-1715693400-1715697000@artsconnectva.org
SUMMARY:Keep the Beat Social with Tom and Rose Schlater
DESCRIPTION:Enjoy living with Tom and Rose Schlater as they play well known popular hits from 1900 to 1975!
URL:https://artsconnectva.org/event/keep-the-beat-social-with-tom-and-rose-schlater-4/
LOCATION:VA
CATEGORIES:Outreach Program
END:VEVENT
BEGIN:VEVENT
DTSTART;TZID=America/New_York:20240514T140000
DTEND;TZID=America/New_York:20240514T150000
DTSTAMP:20260421T145402
CREATED:20240429T173329Z
LAST-MODIFIED:20240429T173329Z
UID:10499-1715695200-1715698800@artsconnectva.org
SUMMARY:Birthday Social with Art Rowe
DESCRIPTION:View Flyer
URL:https://artsconnectva.org/event/birthday-social-with-art-rowe-2/
LOCATION:VA
CATEGORIES:Outreach Program
END:VEVENT
BEGIN:VEVENT
DTSTART;TZID=America/New_York:20240514T143000
DTEND;TZID=America/New_York:20240514T153000
DTSTAMP:20260421T145402
CREATED:20240402T143109Z
LAST-MODIFIED:20240402T143109Z
UID:10156-1715697000-1715700600@artsconnectva.org
SUMMARY:Music\, Motown\, and More! with Richard Mekdeci
DESCRIPTION:Richard Mekdeci (mek-dee-see) is an award-winning songwriter and musician and a 22-year veteran of the Nashville songwriting community. He has produced\, written\, and recorded with such artists as Roseanne Cash\, Kathy Mattea\, Patty Loveless\, and others.
URL:https://artsconnectva.org/event/music-motown-and-more-with-richard-mekdeci-35/
LOCATION:VA
CATEGORIES:Outreach Program
END:VEVENT
BEGIN:VEVENT
DTSTART;TZID=America/New_York:20240514T150000
DTEND;TZID=America/New_York:20240514T160000
DTSTAMP:20260421T145402
CREATED:20240409T190159Z
LAST-MODIFIED:20240409T190159Z
UID:10316-1715698800-1715702400@artsconnectva.org
SUMMARY:Violin Serenade with Alex Marlins
DESCRIPTION:Enjoy a beautiful violin serenade by Alex Marlins! Alex is trained in various musical styles on the violin\, including classical\, jazz\, modern/pop\, and Celtic fiddle.
URL:https://artsconnectva.org/event/violin-serenade-with-alex-marlins-18/
LOCATION:VA
CATEGORIES:Outreach Program
END:VEVENT
END:VCALENDAR