BEGIN:VCALENDAR
VERSION:2.0
PRODID:-//ArtsConnect Virginia - ECPv6.15.20//NONSGML v1.0//EN
CALSCALE:GREGORIAN
METHOD:PUBLISH
X-ORIGINAL-URL:https://artsconnectva.org
X-WR-CALDESC:Events for ArtsConnect Virginia
REFRESH-INTERVAL;VALUE=DURATION:PT1H
X-Robots-Tag:noindex
X-PUBLISHED-TTL:PT1H
BEGIN:VTIMEZONE
TZID:America/New_York
BEGIN:DAYLIGHT
TZOFFSETFROM:-0500
TZOFFSETTO:-0400
TZNAME:EDT
DTSTART:20230312T070000
END:DAYLIGHT
BEGIN:STANDARD
TZOFFSETFROM:-0400
TZOFFSETTO:-0500
TZNAME:EST
DTSTART:20231105T060000
END:STANDARD
BEGIN:DAYLIGHT
TZOFFSETFROM:-0500
TZOFFSETTO:-0400
TZNAME:EDT
DTSTART:20240310T070000
END:DAYLIGHT
BEGIN:STANDARD
TZOFFSETFROM:-0400
TZOFFSETTO:-0500
TZNAME:EST
DTSTART:20241103T060000
END:STANDARD
BEGIN:DAYLIGHT
TZOFFSETFROM:-0500
TZOFFSETTO:-0400
TZNAME:EDT
DTSTART:20250309T070000
END:DAYLIGHT
BEGIN:STANDARD
TZOFFSETFROM:-0400
TZOFFSETTO:-0500
TZNAME:EST
DTSTART:20251102T060000
END:STANDARD
END:VTIMEZONE
BEGIN:VEVENT
DTSTART;TZID=America/New_York:20240510T140000
DTEND;TZID=America/New_York:20240510T150000
DTSTAMP:20260421T132852
CREATED:20240312T163333Z
LAST-MODIFIED:20240312T163333Z
UID:10024-1715349600-1715353200@artsconnectva.org
SUMMARY:Happy Hour with Dan Smith
DESCRIPTION:Enjoy a live performance of popular music from the 1940s\, 1950s and 1960s featuring big band\, classic country\, Elvis Presley\, Pat Boone\, and other icons of the era.
URL:https://artsconnectva.org/event/happy-hour-with-dan-smith-9/
LOCATION:VA
CATEGORIES:Outreach Program
END:VEVENT
BEGIN:VEVENT
DTSTART;TZID=America/New_York:20240510T140000
DTEND;TZID=America/New_York:20240510T150000
DTSTAMP:20260421T132852
CREATED:20240327T164602Z
LAST-MODIFIED:20240327T164602Z
UID:10109-1715349600-1715353200@artsconnectva.org
SUMMARY:Mother's Day Tea with Art Rowe
DESCRIPTION:Enjoy listening to this barber shop quartet as they sing all the classics for you!
URL:https://artsconnectva.org/event/mothers-day-tea-with-art-rowe/
LOCATION:VA
CATEGORIES:Outreach Program
END:VEVENT
BEGIN:VEVENT
DTSTART;TZID=America/New_York:20240510T140000
DTEND;TZID=America/New_York:20240510T150000
DTSTAMP:20260421T132852
CREATED:20240422T180315Z
LAST-MODIFIED:20240422T180315Z
UID:10444-1715349600-1715353200@artsconnectva.org
SUMMARY:Famous Hits! with Cory Laser
DESCRIPTION:Enjoy listening to famous hits from 50’s\, 60’s\, and 70’s that everyone knows and can easily sing along!
URL:https://artsconnectva.org/event/famous-hits-with-cory-laser-12/
LOCATION:VA
CATEGORIES:Outreach Program
END:VEVENT
BEGIN:VEVENT
DTSTART;TZID=America/New_York:20240510T140000
DTEND;TZID=America/New_York:20240510T150000
DTSTAMP:20260421T132852
CREATED:20240426T133113Z
LAST-MODIFIED:20240426T183937Z
UID:10494-1715349600-1715353200@artsconnectva.org
SUMMARY:Spring Wreath with Stephanie Slate
DESCRIPTION:Join Stephanie as she helps you create a beautiful spring wreath!
URL:https://artsconnectva.org/event/spring-wreath-with-stephanie-slate-3/
LOCATION:VA
CATEGORIES:Outreach Program
END:VEVENT
BEGIN:VEVENT
DTSTART;TZID=America/New_York:20240510T143000
DTEND;TZID=America/New_York:20240510T153000
DTSTAMP:20260421T132852
CREATED:20240420T120350Z
LAST-MODIFIED:20240420T120350Z
UID:10425-1715351400-1715355000@artsconnectva.org
SUMMARY:Enchanted Melodies with MCM Flute Trio
DESCRIPTION:View Flyer
URL:https://artsconnectva.org/event/enchanted-melodies-with-mcm-flute-trio/
LOCATION:VA
CATEGORIES:Outreach Program
END:VEVENT
BEGIN:VEVENT
DTSTART;TZID=America/New_York:20240510T150000
DTEND;TZID=America/New_York:20240510T160000
DTSTAMP:20260421T132852
CREATED:20240423T135831Z
LAST-MODIFIED:20240423T135831Z
UID:10472-1715353200-1715356800@artsconnectva.org
SUMMARY:The Classics with Mary M Saunders
DESCRIPTION:Join Mary as she plays music from the 40s to the 80s!
URL:https://artsconnectva.org/event/the-classics-with-mary-m-saunders-4/
LOCATION:VA
CATEGORIES:Outreach Program
END:VEVENT
END:VCALENDAR