BEGIN:VCALENDAR
VERSION:2.0
PRODID:-//ArtsConnect Virginia - ECPv6.15.20//NONSGML v1.0//EN
CALSCALE:GREGORIAN
METHOD:PUBLISH
X-ORIGINAL-URL:https://artsconnectva.org
X-WR-CALDESC:Events for ArtsConnect Virginia
REFRESH-INTERVAL;VALUE=DURATION:PT1H
X-Robots-Tag:noindex
X-PUBLISHED-TTL:PT1H
BEGIN:VTIMEZONE
TZID:America/New_York
BEGIN:DAYLIGHT
TZOFFSETFROM:-0500
TZOFFSETTO:-0400
TZNAME:EDT
DTSTART:20230312T070000
END:DAYLIGHT
BEGIN:STANDARD
TZOFFSETFROM:-0400
TZOFFSETTO:-0500
TZNAME:EST
DTSTART:20231105T060000
END:STANDARD
BEGIN:DAYLIGHT
TZOFFSETFROM:-0500
TZOFFSETTO:-0400
TZNAME:EDT
DTSTART:20240310T070000
END:DAYLIGHT
BEGIN:STANDARD
TZOFFSETFROM:-0400
TZOFFSETTO:-0500
TZNAME:EST
DTSTART:20241103T060000
END:STANDARD
BEGIN:DAYLIGHT
TZOFFSETFROM:-0500
TZOFFSETTO:-0400
TZNAME:EDT
DTSTART:20250309T070000
END:DAYLIGHT
BEGIN:STANDARD
TZOFFSETFROM:-0400
TZOFFSETTO:-0500
TZNAME:EST
DTSTART:20251102T060000
END:STANDARD
END:VTIMEZONE
BEGIN:VEVENT
DTSTART;TZID=America/New_York:20240425T111500
DTEND;TZID=America/New_York:20240425T121500
DTSTAMP:20260421T132955
CREATED:20240416T150456Z
LAST-MODIFIED:20240416T150456Z
UID:10352-1714043700-1714047300@artsconnectva.org
SUMMARY:Old Time Favorites with Tom and Rose
DESCRIPTION:Enjoy listening to your favorite well known hits from 1900 to 1975!
URL:https://artsconnectva.org/event/old-time-favorites-with-tom-and-rose-4/
LOCATION:VA
CATEGORIES:Outreach Program
END:VEVENT
BEGIN:VEVENT
DTSTART;TZID=America/New_York:20240425T130000
DTEND;TZID=America/New_York:20240425T140000
DTSTAMP:20260421T132955
CREATED:20240401T171557Z
LAST-MODIFIED:20240401T171557Z
UID:10150-1714050000-1714053600@artsconnectva.org
SUMMARY:Violin Serenade Tea Party with Alex Marlins
DESCRIPTION:Enjoy a beautiful violin serenade by Alex Marlins! Alex is trained in various musical styles on the violin\, including classical\, jazz\, modern/pop\, and Celtic fiddle.
URL:https://artsconnectva.org/event/violin-serenade-tea-party-with-alex-marlins/
LOCATION:VA
CATEGORIES:Outreach Program
END:VEVENT
BEGIN:VEVENT
DTSTART;TZID=America/New_York:20240425T140000
DTEND;TZID=America/New_York:20240425T150000
DTSTAMP:20260421T132955
CREATED:20240213T231430Z
LAST-MODIFIED:20240213T231430Z
UID:9817-1714053600-1714057200@artsconnectva.org
SUMMARY:Timeless Tunes with Rick Seguso
DESCRIPTION:Rick plays a blend of old and new folk. rock\, blues and country music\, and storytelling songs on guitar and harmonica! \n 
URL:https://artsconnectva.org/event/timeless-tunes-with-rick-seguso-2/
LOCATION:VA
CATEGORIES:Outreach Program
END:VEVENT
BEGIN:VEVENT
DTSTART;TZID=America/New_York:20240425T140000
DTEND;TZID=America/New_York:20240425T150000
DTSTAMP:20260421T132955
CREATED:20240226T220310Z
LAST-MODIFIED:20240226T220310Z
UID:9909-1714053600-1714057200@artsconnectva.org
SUMMARY:Trumpet Tunes with Chad McGill
DESCRIPTION:Join Chad as he plays a variety of music on the trumpet! From light jazz to The Beatles\, you will find his music has something for everyone!
URL:https://artsconnectva.org/event/trumpet-tunes-with-chad-mcgill-7/
LOCATION:VA
CATEGORIES:Outreach Program
END:VEVENT
BEGIN:VEVENT
DTSTART;TZID=America/New_York:20240425T153000
DTEND;TZID=America/New_York:20240425T163000
DTSTAMP:20260421T132955
CREATED:20240327T160926Z
LAST-MODIFIED:20240327T160926Z
UID:10097-1714059000-1714062600@artsconnectva.org
SUMMARY:Old Time Favorites with Thyme and Beats
DESCRIPTION:Thyme & Beat plays a variety of 60s and 70s covers!
URL:https://artsconnectva.org/event/old-time-favorites-with-thyme-and-beats/
LOCATION:VA
CATEGORIES:Outreach Program
END:VEVENT
BEGIN:VEVENT
DTSTART;TZID=America/New_York:20240425T170000
DTEND;TZID=America/New_York:20240425T180000
DTSTAMP:20260421T132955
CREATED:20240206T180420Z
LAST-MODIFIED:20240206T180420Z
UID:9758-1714064400-1714068000@artsconnectva.org
SUMMARY:Jazz Trumpet Tunes with Chad McGill
DESCRIPTION:Join Chad as he plays a variety of music on the trumpet! Enjoy this light jazz program!
URL:https://artsconnectva.org/event/jazz-trumpet-tunes-with-chad-mcgill-3/
LOCATION:VA
CATEGORIES:Outreach Program
END:VEVENT
END:VCALENDAR