BEGIN:VCALENDAR
VERSION:2.0
PRODID:-//ArtsConnect Virginia - ECPv6.15.20//NONSGML v1.0//EN
CALSCALE:GREGORIAN
METHOD:PUBLISH
X-ORIGINAL-URL:https://artsconnectva.org
X-WR-CALDESC:Events for ArtsConnect Virginia
REFRESH-INTERVAL;VALUE=DURATION:PT1H
X-Robots-Tag:noindex
X-PUBLISHED-TTL:PT1H
BEGIN:VTIMEZONE
TZID:America/New_York
BEGIN:DAYLIGHT
TZOFFSETFROM:-0500
TZOFFSETTO:-0400
TZNAME:EDT
DTSTART:20230312T070000
END:DAYLIGHT
BEGIN:STANDARD
TZOFFSETFROM:-0400
TZOFFSETTO:-0500
TZNAME:EST
DTSTART:20231105T060000
END:STANDARD
BEGIN:DAYLIGHT
TZOFFSETFROM:-0500
TZOFFSETTO:-0400
TZNAME:EDT
DTSTART:20240310T070000
END:DAYLIGHT
BEGIN:STANDARD
TZOFFSETFROM:-0400
TZOFFSETTO:-0500
TZNAME:EST
DTSTART:20241103T060000
END:STANDARD
BEGIN:DAYLIGHT
TZOFFSETFROM:-0500
TZOFFSETTO:-0400
TZNAME:EDT
DTSTART:20250309T070000
END:DAYLIGHT
BEGIN:STANDARD
TZOFFSETFROM:-0400
TZOFFSETTO:-0500
TZNAME:EST
DTSTART:20251102T060000
END:STANDARD
END:VTIMEZONE
BEGIN:VEVENT
DTSTART;TZID=America/New_York:20240423T130000
DTEND;TZID=America/New_York:20240423T140000
DTSTAMP:20260421T132851
CREATED:20240206T173745Z
LAST-MODIFIED:20240206T173745Z
UID:9752-1713877200-1713880800@artsconnectva.org
SUMMARY:Winter Serenade with Dan Smith
DESCRIPTION:Enjoy a live performance of popular music from the 1940s\, 1950s and 1960s featuring big band\, classic country\, Elvis Presley\, Pat Boone\, and other icons of the era.
URL:https://artsconnectva.org/event/winter-serenade-with-dan-smith-2/
LOCATION:VA
CATEGORIES:Outreach Program
END:VEVENT
BEGIN:VEVENT
DTSTART;TZID=America/New_York:20240423T133000
DTEND;TZID=America/New_York:20240423T143000
DTSTAMP:20260421T132851
CREATED:20240206T171909Z
LAST-MODIFIED:20240206T171909Z
UID:9742-1713879000-1713882600@artsconnectva.org
SUMMARY:Keep the Beat Social with Alex Marlins
DESCRIPTION:Alex is trained in various musical styles on the violin\, including classical\, jazz\, modern/pop\, and Celtic fiddle. Alex will string together music for any occasion!
URL:https://artsconnectva.org/event/keep-the-beat-social-with-alex-marlins-7/
LOCATION:VA
CATEGORIES:Outreach Program
END:VEVENT
BEGIN:VEVENT
DTSTART;TZID=America/New_York:20240423T140000
DTEND;TZID=America/New_York:20240423T150000
DTSTAMP:20260421T132851
CREATED:20240305T194139Z
LAST-MODIFIED:20240305T194139Z
UID:9970-1713880800-1713884400@artsconnectva.org
SUMMARY:Spring Wreath with Stephanie Slate
DESCRIPTION:View Flyer
URL:https://artsconnectva.org/event/spring-wreath-with-stephanie-slate/
LOCATION:VA
CATEGORIES:Outreach Program
END:VEVENT
BEGIN:VEVENT
DTSTART;TZID=America/New_York:20240423T140000
DTEND;TZID=America/New_York:20240423T150000
DTSTAMP:20260421T132851
CREATED:20240312T155948Z
LAST-MODIFIED:20240312T155948Z
UID:10007-1713880800-1713884400@artsconnectva.org
SUMMARY:Possible Poetry Program with Debra Frech
DESCRIPTION:View Flyer
URL:https://artsconnectva.org/event/possible-poetry-program-with-debra-frech/
LOCATION:VA
CATEGORIES:Outreach Program
END:VEVENT
BEGIN:VEVENT
DTSTART;TZID=America/New_York:20240423T150000
DTEND;TZID=America/New_York:20240423T160000
DTSTAMP:20260421T132851
CREATED:20240319T192343Z
LAST-MODIFIED:20240319T192343Z
UID:10070-1713884400-1713888000@artsconnectva.org
SUMMARY:Acrylic Paint Pour with Vanessa Golson
DESCRIPTION:Enjoy a colorful\, art experience and walk away with a one-of-a-kind masterpiece\, with Vanessa’s step-by-step instructions of an acrylic paint pour technique!
URL:https://artsconnectva.org/event/acrylic-paint-pour-with-vanessa-golson-24/
LOCATION:VA
CATEGORIES:Outreach Program
END:VEVENT
END:VCALENDAR