BEGIN:VCALENDAR
VERSION:2.0
PRODID:-//ArtsConnect Virginia - ECPv6.15.20//NONSGML v1.0//EN
CALSCALE:GREGORIAN
METHOD:PUBLISH
X-ORIGINAL-URL:https://artsconnectva.org
X-WR-CALDESC:Events for ArtsConnect Virginia
REFRESH-INTERVAL;VALUE=DURATION:PT1H
X-Robots-Tag:noindex
X-PUBLISHED-TTL:PT1H
BEGIN:VTIMEZONE
TZID:America/New_York
BEGIN:DAYLIGHT
TZOFFSETFROM:-0500
TZOFFSETTO:-0400
TZNAME:EDT
DTSTART:20230312T070000
END:DAYLIGHT
BEGIN:STANDARD
TZOFFSETFROM:-0400
TZOFFSETTO:-0500
TZNAME:EST
DTSTART:20231105T060000
END:STANDARD
BEGIN:DAYLIGHT
TZOFFSETFROM:-0500
TZOFFSETTO:-0400
TZNAME:EDT
DTSTART:20240310T070000
END:DAYLIGHT
BEGIN:STANDARD
TZOFFSETFROM:-0400
TZOFFSETTO:-0500
TZNAME:EST
DTSTART:20241103T060000
END:STANDARD
BEGIN:DAYLIGHT
TZOFFSETFROM:-0500
TZOFFSETTO:-0400
TZNAME:EDT
DTSTART:20250309T070000
END:DAYLIGHT
BEGIN:STANDARD
TZOFFSETFROM:-0400
TZOFFSETTO:-0500
TZNAME:EST
DTSTART:20251102T060000
END:STANDARD
END:VTIMEZONE
BEGIN:VEVENT
DTSTART;TZID=America/New_York:20240419T103000
DTEND;TZID=America/New_York:20240419T113000
DTSTAMP:20260421T132956
CREATED:20240226T200511Z
LAST-MODIFIED:20240226T200511Z
UID:9903-1713522600-1713526200@artsconnectva.org
SUMMARY:Popsicle Stick Wall Art with Adrienne Searle
DESCRIPTION:Join Adrienne in making a popsicle wall art hanger!
URL:https://artsconnectva.org/event/popsicle-stick-wall-art-with-adrienne-searle-2/
LOCATION:VA
CATEGORIES:Outreach Program
END:VEVENT
BEGIN:VEVENT
DTSTART;TZID=America/New_York:20240419T140000
DTEND;TZID=America/New_York:20240419T150000
DTSTAMP:20260421T132956
CREATED:20240305T195653Z
LAST-MODIFIED:20240305T195653Z
UID:9975-1713535200-1713538800@artsconnectva.org
SUMMARY:Throwbacks with Bryan Martin
DESCRIPTION:Join Bryan for all of these fun sing-a-longs from the 60s -2000s. Bryan will be singing country\, rock\, bluegrass and spirituals!
URL:https://artsconnectva.org/event/throwbacks-with-bryan-martin-7/
LOCATION:VA
CATEGORIES:Outreach Program
END:VEVENT
BEGIN:VEVENT
DTSTART;TZID=America/New_York:20240419T140000
DTEND;TZID=America/New_York:20240419T150000
DTSTAMP:20260421T132956
CREATED:20240319T191647Z
LAST-MODIFIED:20240319T191647Z
UID:10068-1713535200-1713538800@artsconnectva.org
SUMMARY:Trumpet Tunes with Chad McGill
DESCRIPTION:Join Chad as he plays a variety of music on the trumpet! From light jazz to The Beatles\, you will find his music has something for everyone! \n 
URL:https://artsconnectva.org/event/trumpet-tunes-with-chad-mcgill-11/
LOCATION:VA
CATEGORIES:Outreach Program
END:VEVENT
BEGIN:VEVENT
DTSTART;TZID=America/New_York:20240419T140000
DTEND;TZID=America/New_York:20240419T150000
DTSTAMP:20260421T132956
CREATED:20240327T155334Z
LAST-MODIFIED:20240327T155334Z
UID:10093-1713535200-1713538800@artsconnectva.org
SUMMARY:Music\, Motown\, and More! with Richard Mekdeci
DESCRIPTION:Richard Mekdeci (mek-dee-see) is an award-winning songwriter and musician and a 22 year veteran of the Nashville songwriting community. He has produced\, written and recorded with such artists as Roseanne Cash\, Kathy Mattea\, Patty Loveless\, and others.
URL:https://artsconnectva.org/event/music-motown-and-more-with-richard-mekdeci-34/
LOCATION:VA
CATEGORIES:Outreach Program
END:VEVENT
BEGIN:VEVENT
DTSTART;TZID=America/New_York:20240419T143000
DTEND;TZID=America/New_York:20240419T153000
DTSTAMP:20260421T132956
CREATED:20240129T195824Z
LAST-MODIFIED:20240129T195824Z
UID:9693-1713537000-1713540600@artsconnectva.org
SUMMARY:Best of Yesteryear with Mike Finn
DESCRIPTION:Join in the fun and bring back fond memories with Mike’s engaging mix of mellow rock classics and sing-along oldies! \n 
URL:https://artsconnectva.org/event/best-of-yesteryear-with-mike-finn-41/
LOCATION:VA
CATEGORIES:Outreach Program
END:VEVENT
BEGIN:VEVENT
DTSTART;TZID=America/New_York:20240419T143000
DTEND;TZID=America/New_York:20240419T153000
DTSTAMP:20260421T132957
CREATED:20240314T160021Z
LAST-MODIFIED:20240314T160021Z
UID:10056-1713537000-1713540600@artsconnectva.org
SUMMARY:Musica with Melissa Cartwright
DESCRIPTION:View Flyer
URL:https://artsconnectva.org/event/musica-with-melissa-cartwright/
LOCATION:VA
CATEGORIES:Outreach Program
END:VEVENT
BEGIN:VEVENT
DTSTART;TZID=America/New_York:20240419T150000
DTEND;TZID=America/New_York:20240419T160000
DTSTAMP:20260421T132957
CREATED:20240312T153904Z
LAST-MODIFIED:20240312T153904Z
UID:10002-1713538800-1713542400@artsconnectva.org
SUMMARY:Old Time Favorites with Tom and Rose
DESCRIPTION:View Flyer
URL:https://artsconnectva.org/event/old-time-favorites-with-tom-and-rose-2/
LOCATION:VA
CATEGORIES:Outreach Program
END:VEVENT
BEGIN:VEVENT
DTSTART;TZID=America/New_York:20240419T150000
DTEND;TZID=America/New_York:20240419T160000
DTSTAMP:20260421T132957
CREATED:20240312T154519Z
LAST-MODIFIED:20240312T154519Z
UID:10005-1713538800-1713542400@artsconnectva.org
SUMMARY:The Classics with Thyme and Beat
DESCRIPTION:Thyme & Beats plays a genre of 60s and 70s covers with some Christmas Tunes mixed in! \n 
URL:https://artsconnectva.org/event/the-classics-with-thyme-and-beat-2/
LOCATION:VA
CATEGORIES:Outreach Program
END:VEVENT
BEGIN:VEVENT
DTSTART;TZID=America/New_York:20240419T150000
DTEND;TZID=America/New_York:20240419T160000
DTSTAMP:20260421T132957
CREATED:20240313T182610Z
LAST-MODIFIED:20240313T182610Z
UID:10042-1713538800-1713542400@artsconnectva.org
SUMMARY:Spring Wreath with Stephanie Slate
DESCRIPTION:View Flyer
URL:https://artsconnectva.org/event/spring-wreath-with-stephanie-slate-2/
LOCATION:VA
CATEGORIES:Outreach Program
END:VEVENT
END:VCALENDAR