BEGIN:VCALENDAR
VERSION:2.0
PRODID:-//ArtsConnect Virginia - ECPv6.15.20//NONSGML v1.0//EN
CALSCALE:GREGORIAN
METHOD:PUBLISH
X-WR-CALNAME:ArtsConnect Virginia
X-ORIGINAL-URL:https://artsconnectva.org
X-WR-CALDESC:Events for ArtsConnect Virginia
REFRESH-INTERVAL;VALUE=DURATION:PT1H
X-Robots-Tag:noindex
X-PUBLISHED-TTL:PT1H
BEGIN:VTIMEZONE
TZID:America/New_York
BEGIN:DAYLIGHT
TZOFFSETFROM:-0500
TZOFFSETTO:-0400
TZNAME:EDT
DTSTART:20230312T070000
END:DAYLIGHT
BEGIN:STANDARD
TZOFFSETFROM:-0400
TZOFFSETTO:-0500
TZNAME:EST
DTSTART:20231105T060000
END:STANDARD
BEGIN:DAYLIGHT
TZOFFSETFROM:-0500
TZOFFSETTO:-0400
TZNAME:EDT
DTSTART:20240310T070000
END:DAYLIGHT
BEGIN:STANDARD
TZOFFSETFROM:-0400
TZOFFSETTO:-0500
TZNAME:EST
DTSTART:20241103T060000
END:STANDARD
BEGIN:DAYLIGHT
TZOFFSETFROM:-0500
TZOFFSETTO:-0400
TZNAME:EDT
DTSTART:20250309T070000
END:DAYLIGHT
BEGIN:STANDARD
TZOFFSETFROM:-0400
TZOFFSETTO:-0500
TZNAME:EST
DTSTART:20251102T060000
END:STANDARD
END:VTIMEZONE
BEGIN:VEVENT
DTSTART;TZID=America/New_York:20240416T103000
DTEND;TZID=America/New_York:20240416T113000
DTSTAMP:20260421T145401
CREATED:20240221T161637Z
LAST-MODIFIED:20240221T161637Z
UID:9879-1713263400-1713267000@artsconnectva.org
SUMMARY:Floral Votive with Stephanie Slate
DESCRIPTION:Join Stephanie as she guides you through a fun and creative floral votive program!
URL:https://artsconnectva.org/event/floral-votive-with-stephanie-slate/
LOCATION:VA
CATEGORIES:Outreach Program
END:VEVENT
BEGIN:VEVENT
DTSTART;TZID=America/New_York:20240416T130000
DTEND;TZID=America/New_York:20240416T140000
DTSTAMP:20260421T145401
CREATED:20240206T173218Z
LAST-MODIFIED:20240206T173218Z
UID:9750-1713272400-1713276000@artsconnectva.org
SUMMARY:Fletcher and Friends
DESCRIPTION:Fletcher and Friends are a guitar\, bass and drums trio that play a variety of music genres. They play old and new jazz as well as blues\, rhythm and blues\, and Latin tunes. They also include tunes from mainstream pop.
URL:https://artsconnectva.org/event/fletcher-and-friends-20/
LOCATION:VA
CATEGORIES:Outreach Program
END:VEVENT
BEGIN:VEVENT
DTSTART;TZID=America/New_York:20240416T140000
DTEND;TZID=America/New_York:20240416T150000
DTSTAMP:20260421T145401
CREATED:20240226T195816Z
LAST-MODIFIED:20240226T195816Z
UID:9900-1713276000-1713279600@artsconnectva.org
SUMMARY:Floral Votive with Stephanie Slate
DESCRIPTION:View Flyer
URL:https://artsconnectva.org/event/floral-votive-with-stephanie-slate-2/
LOCATION:VA
CATEGORIES:Outreach Program
END:VEVENT
BEGIN:VEVENT
DTSTART;TZID=America/New_York:20240416T140000
DTEND;TZID=America/New_York:20240416T150000
DTSTAMP:20260421T145401
CREATED:20240327T154423Z
LAST-MODIFIED:20240327T154423Z
UID:10089-1713276000-1713279600@artsconnectva.org
SUMMARY:Throwbacks with Bryan Martin
DESCRIPTION:Join Bryan for all of these fun sing-a-longs from the 60s -2000s. Bryan will be singing country\, rock\, bluegrass and spirituals!
URL:https://artsconnectva.org/event/throwbacks-with-bryan-martin-8/
LOCATION:VA
CATEGORIES:Outreach Program
END:VEVENT
BEGIN:VEVENT
DTSTART;TZID=America/New_York:20240416T143000
DTEND;TZID=America/New_York:20240416T153000
DTSTAMP:20260421T145401
CREATED:20240327T154847Z
LAST-MODIFIED:20240327T154847Z
UID:10091-1713277800-1713281400@artsconnectva.org
SUMMARY:The Classics with Mary M Saunders
DESCRIPTION:Join Mary as she plays music from the 40s to the 80s!
URL:https://artsconnectva.org/event/the-classics-with-mary-m-saunders-3/
LOCATION:VA
CATEGORIES:Outreach Program
END:VEVENT
BEGIN:VEVENT
DTSTART;TZID=America/New_York:20240416T180000
DTEND;TZID=America/New_York:20240416T190000
DTSTAMP:20260421T145401
CREATED:20240223T131249Z
LAST-MODIFIED:20240228T125159Z
UID:9888-1713290400-1713294000@artsconnectva.org
SUMMARY:Improv with Leila Stephanie
DESCRIPTION:View Flyer
URL:https://artsconnectva.org/event/improv-with-leila-stephanie/
LOCATION:VA
CATEGORIES:Open to the Public
END:VEVENT
END:VCALENDAR