BEGIN:VCALENDAR
VERSION:2.0
PRODID:-//ArtsConnect Virginia - ECPv6.15.20//NONSGML v1.0//EN
CALSCALE:GREGORIAN
METHOD:PUBLISH
X-WR-CALNAME:ArtsConnect Virginia
X-ORIGINAL-URL:https://artsconnectva.org
X-WR-CALDESC:Events for ArtsConnect Virginia
REFRESH-INTERVAL;VALUE=DURATION:PT1H
X-Robots-Tag:noindex
X-PUBLISHED-TTL:PT1H
BEGIN:VTIMEZONE
TZID:America/New_York
BEGIN:DAYLIGHT
TZOFFSETFROM:-0500
TZOFFSETTO:-0400
TZNAME:EDT
DTSTART:20230312T070000
END:DAYLIGHT
BEGIN:STANDARD
TZOFFSETFROM:-0400
TZOFFSETTO:-0500
TZNAME:EST
DTSTART:20231105T060000
END:STANDARD
BEGIN:DAYLIGHT
TZOFFSETFROM:-0500
TZOFFSETTO:-0400
TZNAME:EDT
DTSTART:20240310T070000
END:DAYLIGHT
BEGIN:STANDARD
TZOFFSETFROM:-0400
TZOFFSETTO:-0500
TZNAME:EST
DTSTART:20241103T060000
END:STANDARD
BEGIN:DAYLIGHT
TZOFFSETFROM:-0500
TZOFFSETTO:-0400
TZNAME:EDT
DTSTART:20250309T070000
END:DAYLIGHT
BEGIN:STANDARD
TZOFFSETFROM:-0400
TZOFFSETTO:-0500
TZNAME:EST
DTSTART:20251102T060000
END:STANDARD
END:VTIMEZONE
BEGIN:VEVENT
DTSTART;TZID=America/New_York:20240412T103000
DTEND;TZID=America/New_York:20240412T113000
DTSTAMP:20260421T132515
CREATED:20240305T193216Z
LAST-MODIFIED:20240305T193216Z
UID:9968-1712917800-1712921400@artsconnectva.org
SUMMARY:Decorative Soap with Rhona Dawson
DESCRIPTION:Join Rhona as she guides you through creative beautiful decorative soap.
URL:https://artsconnectva.org/event/decorative-soap-with-rhona-dawson/
LOCATION:VA
CATEGORIES:Outreach Program
END:VEVENT
BEGIN:VEVENT
DTSTART;TZID=America/New_York:20240412T130000
DTEND;TZID=America/New_York:20240412T140000
DTSTAMP:20260421T132515
CREATED:20240401T170302Z
LAST-MODIFIED:20240401T170302Z
UID:10147-1712926800-1712930400@artsconnectva.org
SUMMARY:Line Dancing with NewMan Fitness
DESCRIPTION:Join NewMan Fitness as they guide you through a fun line dance program! Make sure to wear your dancing shoes!
URL:https://artsconnectva.org/event/line-dancing-with-newman-fitness-10/
LOCATION:VA
CATEGORIES:Outreach Program
END:VEVENT
BEGIN:VEVENT
DTSTART;TZID=America/New_York:20240412T140000
DTEND;TZID=America/New_York:20240412T150000
DTSTAMP:20260421T132515
CREATED:20240216T171809Z
LAST-MODIFIED:20240216T171809Z
UID:9855-1712930400-1712934000@artsconnectva.org
SUMMARY:Paint-A-Long with Stephanie Slate
DESCRIPTION:Join Stephanie as she guides you through a fun paint-a-long!
URL:https://artsconnectva.org/event/paint-a-long-with-stephanie-slate/
LOCATION:VA
CATEGORIES:Outreach Program
END:VEVENT
BEGIN:VEVENT
DTSTART;TZID=America/New_York:20240412T140000
DTEND;TZID=America/New_York:20240412T150000
DTSTAMP:20260421T132515
CREATED:20240221T160148Z
LAST-MODIFIED:20240221T160148Z
UID:9873-1712930400-1712934000@artsconnectva.org
SUMMARY:Fiddlin' and Pickin' with Tidewater Bluegrass Revival
DESCRIPTION:Tidewater Bluegrass Revival is a 5 person band focusing on bluegrass music that will be sure to get feet moving and heads swaying. The group features a fiddle\, guitar\, mandolin\, banjo\, and bass.
URL:https://artsconnectva.org/event/fiddlin-and-pickin-with-tidewater-bluegrass-revival-11/
LOCATION:VA
CATEGORIES:Outreach Program
END:VEVENT
BEGIN:VEVENT
DTSTART;TZID=America/New_York:20240412T140000
DTEND;TZID=America/New_York:20240412T150000
DTSTAMP:20260421T132516
CREATED:20240221T161147Z
LAST-MODIFIED:20240221T161147Z
UID:9877-1712930400-1712934000@artsconnectva.org
SUMMARY:Zumba Fitness with Newman Fitness
DESCRIPTION:Enjoy this seated fitness program with NewMan Fitness! This Zumba class that will keep you all moving while listening to some fun music!
URL:https://artsconnectva.org/event/zumba-fitness-with-newman-fitness/
LOCATION:VA
CATEGORIES:Outreach Program
END:VEVENT
BEGIN:VEVENT
DTSTART;TZID=America/New_York:20240412T150000
DTEND;TZID=America/New_York:20240412T160000
DTSTAMP:20260421T132516
CREATED:20240312T153011Z
LAST-MODIFIED:20240312T153011Z
UID:9998-1712934000-1712937600@artsconnectva.org
SUMMARY:Melody Magic with Dan Smith - Inspiritas Memory Care
DESCRIPTION:Enjoy a live performance of popular music from the 1940s\, 1950s and 1960s featuring big band\, classic country\, Elvis Presley\, Pat Boone\, and other icons of the era! \n 
URL:https://artsconnectva.org/event/melody-magic-with-dan-smith-inspiritas-memory-care/
LOCATION:VA
CATEGORIES:Outreach Program
END:VEVENT
BEGIN:VEVENT
DTSTART;TZID=America/New_York:20240412T150000
DTEND;TZID=America/New_York:20240412T160000
DTSTAMP:20260421T132516
CREATED:20240314T155508Z
LAST-MODIFIED:20240314T155508Z
UID:10053-1712934000-1712937600@artsconnectva.org
SUMMARY:Flute Through the Ages with Sean Arawjo
DESCRIPTION:View Flyer
URL:https://artsconnectva.org/event/flute-through-the-ages-with-sean-arawjo-7/
LOCATION:VA
CATEGORIES:Outreach Program
END:VEVENT
END:VCALENDAR