BEGIN:VCALENDAR
VERSION:2.0
PRODID:-//ArtsConnect Virginia - ECPv6.15.20//NONSGML v1.0//EN
CALSCALE:GREGORIAN
METHOD:PUBLISH
X-ORIGINAL-URL:https://artsconnectva.org
X-WR-CALDESC:Events for ArtsConnect Virginia
REFRESH-INTERVAL;VALUE=DURATION:PT1H
X-Robots-Tag:noindex
X-PUBLISHED-TTL:PT1H
BEGIN:VTIMEZONE
TZID:America/New_York
BEGIN:DAYLIGHT
TZOFFSETFROM:-0500
TZOFFSETTO:-0400
TZNAME:EDT
DTSTART:20230312T070000
END:DAYLIGHT
BEGIN:STANDARD
TZOFFSETFROM:-0400
TZOFFSETTO:-0500
TZNAME:EST
DTSTART:20231105T060000
END:STANDARD
BEGIN:DAYLIGHT
TZOFFSETFROM:-0500
TZOFFSETTO:-0400
TZNAME:EDT
DTSTART:20240310T070000
END:DAYLIGHT
BEGIN:STANDARD
TZOFFSETFROM:-0400
TZOFFSETTO:-0500
TZNAME:EST
DTSTART:20241103T060000
END:STANDARD
BEGIN:DAYLIGHT
TZOFFSETFROM:-0500
TZOFFSETTO:-0400
TZNAME:EDT
DTSTART:20250309T070000
END:DAYLIGHT
BEGIN:STANDARD
TZOFFSETFROM:-0400
TZOFFSETTO:-0500
TZNAME:EST
DTSTART:20251102T060000
END:STANDARD
END:VTIMEZONE
BEGIN:VEVENT
DTSTART;TZID=America/New_York:20240409T130000
DTEND;TZID=America/New_York:20240409T140000
DTSTAMP:20260421T133009
CREATED:20240206T172833Z
LAST-MODIFIED:20240206T172833Z
UID:9748-1712667600-1712671200@artsconnectva.org
SUMMARY:Singing and Smiling with David and Ron
DESCRIPTION:David and Ron’s sole objective is to interact with the audience via talking and singing with them and most important putting a “Smile” on their Face!
URL:https://artsconnectva.org/event/singing-and-smiling-with-david-and-ron-5/
LOCATION:VA
CATEGORIES:Outreach Program
END:VEVENT
BEGIN:VEVENT
DTSTART;TZID=America/New_York:20240409T140000
DTEND;TZID=America/New_York:20240409T150000
DTSTAMP:20260421T133009
CREATED:20240329T145408Z
LAST-MODIFIED:20240329T145408Z
UID:10144-1712671200-1712674800@artsconnectva.org
SUMMARY:Birthday Social with The Elderly Brothers
DESCRIPTION:View Flyer
URL:https://artsconnectva.org/event/birthday-social-with-the-elderly-brothers-2/
LOCATION:VA
CATEGORIES:Outreach Program
END:VEVENT
BEGIN:VEVENT
DTSTART;TZID=America/New_York:20240409T150000
DTEND;TZID=America/New_York:20240409T160000
DTSTAMP:20260421T133009
CREATED:20240312T151816Z
LAST-MODIFIED:20240312T151816Z
UID:9991-1712674800-1712678400@artsconnectva.org
SUMMARY:Melody Magic with Dan Smith
DESCRIPTION:View Flyer
URL:https://artsconnectva.org/event/melody-magic-with-dan-smith-4/
LOCATION:VA
CATEGORIES:Outreach Program
END:VEVENT
END:VCALENDAR