BEGIN:VCALENDAR
VERSION:2.0
PRODID:-//ArtsConnect Virginia - ECPv6.15.20//NONSGML v1.0//EN
CALSCALE:GREGORIAN
METHOD:PUBLISH
X-WR-CALNAME:ArtsConnect Virginia
X-ORIGINAL-URL:https://artsconnectva.org
X-WR-CALDESC:Events for ArtsConnect Virginia
REFRESH-INTERVAL;VALUE=DURATION:PT1H
X-Robots-Tag:noindex
X-PUBLISHED-TTL:PT1H
BEGIN:VTIMEZONE
TZID:America/New_York
BEGIN:DAYLIGHT
TZOFFSETFROM:-0500
TZOFFSETTO:-0400
TZNAME:EDT
DTSTART:20230312T070000
END:DAYLIGHT
BEGIN:STANDARD
TZOFFSETFROM:-0400
TZOFFSETTO:-0500
TZNAME:EST
DTSTART:20231105T060000
END:STANDARD
BEGIN:DAYLIGHT
TZOFFSETFROM:-0500
TZOFFSETTO:-0400
TZNAME:EDT
DTSTART:20240310T070000
END:DAYLIGHT
BEGIN:STANDARD
TZOFFSETFROM:-0400
TZOFFSETTO:-0500
TZNAME:EST
DTSTART:20241103T060000
END:STANDARD
BEGIN:DAYLIGHT
TZOFFSETFROM:-0500
TZOFFSETTO:-0400
TZNAME:EDT
DTSTART:20250309T070000
END:DAYLIGHT
BEGIN:STANDARD
TZOFFSETFROM:-0400
TZOFFSETTO:-0500
TZNAME:EST
DTSTART:20251102T060000
END:STANDARD
END:VTIMEZONE
BEGIN:VEVENT
DTSTART;TZID=America/New_York:20240328T103000
DTEND;TZID=America/New_York:20240328T113000
DTSTAMP:20260421T145309
CREATED:20240124T201341Z
LAST-MODIFIED:20240124T201341Z
UID:9675-1711621800-1711625400@artsconnectva.org
SUMMARY:Bunny Wreath with Creative Connections
DESCRIPTION:Let’s make a bunny wreath for spring!
URL:https://artsconnectva.org/event/bunny-wreath-with-creative-connections/
LOCATION:VA
CATEGORIES:Outreach Program
END:VEVENT
BEGIN:VEVENT
DTSTART;TZID=America/New_York:20240328T110000
DTEND;TZID=America/New_York:20240328T120000
DTSTAMP:20260421T145309
CREATED:20240304T194830Z
LAST-MODIFIED:20240304T194830Z
UID:9963-1711623600-1711627200@artsconnectva.org
SUMMARY:Acrylic Paint Pour with Vanessa Golson
DESCRIPTION:Enjoy a colorful\, art experience and walk away with a one-of-a-kind masterpiece\, with Vanessa’s step-by-step instructions of an acrylic paint pour technique!
URL:https://artsconnectva.org/event/acrylic-paint-pour-with-vanessa-golson-22/
LOCATION:VA
CATEGORIES:Outreach Program
END:VEVENT
BEGIN:VEVENT
DTSTART;TZID=America/New_York:20240328T140000
DTEND;TZID=America/New_York:20240328T150000
DTSTAMP:20260421T145309
CREATED:20231227T210523Z
LAST-MODIFIED:20231227T210523Z
UID:9417-1711634400-1711638000@artsconnectva.org
SUMMARY:All of the Favorites with Adrienne and Jamie
DESCRIPTION:Join Adrienne and Jamie as they play your favorite throwback tunes!
URL:https://artsconnectva.org/event/all-of-the-favorites-with-adrienne-and-jamie/
LOCATION:VA
CATEGORIES:Outreach Program
END:VEVENT
BEGIN:VEVENT
DTSTART;TZID=America/New_York:20240328T140000
DTEND;TZID=America/New_York:20240328T150000
DTSTAMP:20260421T145309
CREATED:20240226T194947Z
LAST-MODIFIED:20240226T194947Z
UID:9897-1711634400-1711638000@artsconnectva.org
SUMMARY:Favorite Throwbacks with Dan Smith
DESCRIPTION:View Flyer
URL:https://artsconnectva.org/event/favorite-throwbacks-with-dan-smith-6/
LOCATION:VA
CATEGORIES:Outreach Program
END:VEVENT
BEGIN:VEVENT
DTSTART;TZID=America/New_York:20240328T173000
DTEND;TZID=America/New_York:20240328T183000
DTSTAMP:20260421T145309
CREATED:20240125T172303Z
LAST-MODIFIED:20240125T172303Z
UID:9683-1711647000-1711650600@artsconnectva.org
SUMMARY:Sew into Spring with Stephanie Slate
DESCRIPTION:Learn some sewing basics with Stephanie Slate!
URL:https://artsconnectva.org/event/sew-into-spring-with-stephanie-slate/
LOCATION:VA
CATEGORIES:Outreach Program
END:VEVENT
END:VCALENDAR