BEGIN:VCALENDAR
VERSION:2.0
PRODID:-//ArtsConnect Virginia - ECPv6.15.20//NONSGML v1.0//EN
CALSCALE:GREGORIAN
METHOD:PUBLISH
X-ORIGINAL-URL:https://artsconnectva.org
X-WR-CALDESC:Events for ArtsConnect Virginia
REFRESH-INTERVAL;VALUE=DURATION:PT1H
X-Robots-Tag:noindex
X-PUBLISHED-TTL:PT1H
BEGIN:VTIMEZONE
TZID:America/New_York
BEGIN:DAYLIGHT
TZOFFSETFROM:-0500
TZOFFSETTO:-0400
TZNAME:EDT
DTSTART:20230312T070000
END:DAYLIGHT
BEGIN:STANDARD
TZOFFSETFROM:-0400
TZOFFSETTO:-0500
TZNAME:EST
DTSTART:20231105T060000
END:STANDARD
BEGIN:DAYLIGHT
TZOFFSETFROM:-0500
TZOFFSETTO:-0400
TZNAME:EDT
DTSTART:20240310T070000
END:DAYLIGHT
BEGIN:STANDARD
TZOFFSETFROM:-0400
TZOFFSETTO:-0500
TZNAME:EST
DTSTART:20241103T060000
END:STANDARD
BEGIN:DAYLIGHT
TZOFFSETFROM:-0500
TZOFFSETTO:-0400
TZNAME:EDT
DTSTART:20250309T070000
END:DAYLIGHT
BEGIN:STANDARD
TZOFFSETFROM:-0400
TZOFFSETTO:-0500
TZNAME:EST
DTSTART:20251102T060000
END:STANDARD
END:VTIMEZONE
BEGIN:VEVENT
DTSTART;TZID=America/New_York:20240324T140000
DTEND;TZID=America/New_York:20240324T150000
DTSTAMP:20260421T145519
CREATED:20240216T170809Z
LAST-MODIFIED:20240216T170809Z
UID:9853-1711288800-1711292400@artsconnectva.org
SUMMARY:Women Oral History Workshop with The Muse Writing Center
DESCRIPTION:Join us for an enriching workshop focused on the “How to” of capturing stories and oral histories\, with a special emphasis on the essential skills of preparation\, information gathering\, interviewing techniques\, and providing valuable resources for preserving history.  In keeping with this month’s theme of “Women Who Advocate for Equity\, diversity\, and Inclusion” we’ll focus on examples from a history full of women who have been pioneers in advocating for equity\, diversity\, and inclusion\, highlighting their invaluable contributions to history.
URL:https://artsconnectva.org/event/women-oral-history-workshop-with-the-muse-writing-center/
LOCATION:VA
CATEGORIES:Outreach Program
END:VEVENT
END:VCALENDAR