BEGIN:VCALENDAR
VERSION:2.0
PRODID:-//ArtsConnect Virginia - ECPv6.15.20//NONSGML v1.0//EN
CALSCALE:GREGORIAN
METHOD:PUBLISH
X-WR-CALNAME:ArtsConnect Virginia
X-ORIGINAL-URL:https://artsconnectva.org
X-WR-CALDESC:Events for ArtsConnect Virginia
REFRESH-INTERVAL;VALUE=DURATION:PT1H
X-Robots-Tag:noindex
X-PUBLISHED-TTL:PT1H
BEGIN:VTIMEZONE
TZID:America/New_York
BEGIN:DAYLIGHT
TZOFFSETFROM:-0500
TZOFFSETTO:-0400
TZNAME:EDT
DTSTART:20230312T070000
END:DAYLIGHT
BEGIN:STANDARD
TZOFFSETFROM:-0400
TZOFFSETTO:-0500
TZNAME:EST
DTSTART:20231105T060000
END:STANDARD
BEGIN:DAYLIGHT
TZOFFSETFROM:-0500
TZOFFSETTO:-0400
TZNAME:EDT
DTSTART:20240310T070000
END:DAYLIGHT
BEGIN:STANDARD
TZOFFSETFROM:-0400
TZOFFSETTO:-0500
TZNAME:EST
DTSTART:20241103T060000
END:STANDARD
BEGIN:DAYLIGHT
TZOFFSETFROM:-0500
TZOFFSETTO:-0400
TZNAME:EDT
DTSTART:20250309T070000
END:DAYLIGHT
BEGIN:STANDARD
TZOFFSETFROM:-0400
TZOFFSETTO:-0500
TZNAME:EST
DTSTART:20251102T060000
END:STANDARD
END:VTIMEZONE
BEGIN:VEVENT
DTSTART;TZID=America/New_York:20240322T110000
DTEND;TZID=America/New_York:20240322T120000
DTSTAMP:20260421T145252
CREATED:20240216T161434Z
LAST-MODIFIED:20240216T161434Z
UID:9843-1711105200-1711108800@artsconnectva.org
SUMMARY:Acrylic Paint Pour with Vanessa Golson
DESCRIPTION:View Flyer
URL:https://artsconnectva.org/event/acrylic-paint-pour-with-vanessa-golson-20/
LOCATION:VA
CATEGORIES:Outreach Program
END:VEVENT
BEGIN:VEVENT
DTSTART;TZID=America/New_York:20240322T110000
DTEND;TZID=America/New_York:20240322T120000
DTSTAMP:20260421T145252
CREATED:20240216T195439Z
LAST-MODIFIED:20240216T195439Z
UID:9858-1711105200-1711108800@artsconnectva.org
SUMMARY:Blues Tunes with MaryAnn Toboz
DESCRIPTION:MaryAnn sings and accompanies herself on guitar. Join her for this blues program!
URL:https://artsconnectva.org/event/blues-tunes-with-maryann-toboz/
LOCATION:VA
CATEGORIES:Outreach Program
END:VEVENT
BEGIN:VEVENT
DTSTART;TZID=America/New_York:20240322T140000
DTEND;TZID=America/New_York:20240322T150000
DTSTAMP:20260421T145252
CREATED:20240129T195001Z
LAST-MODIFIED:20240129T195001Z
UID:9689-1711116000-1711119600@artsconnectva.org
SUMMARY:Favorite Famous Hits with Cory Laser
DESCRIPTION:Enjoy listening to famous hits from 50’s\, 60’s 70’s that everyone knows and can easily sing along! \n 
URL:https://artsconnectva.org/event/favorite-famous-hits-with-cory-laser-2/
LOCATION:VA
CATEGORIES:Outreach Program
END:VEVENT
BEGIN:VEVENT
DTSTART;TZID=America/New_York:20240322T140000
DTEND;TZID=America/New_York:20240322T150000
DTSTAMP:20260421T145252
CREATED:20240207T152555Z
LAST-MODIFIED:20240207T152555Z
UID:9773-1711116000-1711119600@artsconnectva.org
SUMMARY:Hits of the 50s and 60s with Adrienne and Jamie
DESCRIPTION:View Flyer
URL:https://artsconnectva.org/event/hits-of-the-50s-and-60s-with-adrienne-and-jamie-2/
LOCATION:VA
CATEGORIES:Outreach Program
END:VEVENT
BEGIN:VEVENT
DTSTART;TZID=America/New_York:20240322T140000
DTEND;TZID=America/New_York:20240322T150000
DTSTAMP:20260421T145252
CREATED:20240207T202537Z
LAST-MODIFIED:20240207T202537Z
UID:9783-1711116000-1711119600@artsconnectva.org
SUMMARY:Happy Hour with Dan Smith
DESCRIPTION:Enjoy a live performance of popular music from the 1940s\, 1950s and 1960s featuring big band\, classic country\, Elvis Presley\, Pat Boone\, and other icons of the era.
URL:https://artsconnectva.org/event/happy-hour-with-dan-smith-7/
LOCATION:VA
CATEGORIES:Outreach Program
END:VEVENT
BEGIN:VEVENT
DTSTART;TZID=America/New_York:20240322T140000
DTEND;TZID=America/New_York:20240322T150000
DTSTAMP:20260421T145252
CREATED:20240221T154722Z
LAST-MODIFIED:20240221T154722Z
UID:9867-1711116000-1711119600@artsconnectva.org
SUMMARY:Improv Fun with Leila Stephanie
DESCRIPTION:The programs that I will implement include: improvisation\, literary readings\, poetry\, and sensory visual arts. The programs will consist of implementing movement and mobility\, fostering positive social interactions\, and encouraging creativity.
URL:https://artsconnectva.org/event/improv-fun-with-leila-stephanie-2/
LOCATION:VA
CATEGORIES:Outreach Program
END:VEVENT
END:VCALENDAR