BEGIN:VCALENDAR
VERSION:2.0
PRODID:-//ArtsConnect Virginia - ECPv6.15.20//NONSGML v1.0//EN
CALSCALE:GREGORIAN
METHOD:PUBLISH
X-ORIGINAL-URL:https://artsconnectva.org
X-WR-CALDESC:Events for ArtsConnect Virginia
REFRESH-INTERVAL;VALUE=DURATION:PT1H
X-Robots-Tag:noindex
X-PUBLISHED-TTL:PT1H
BEGIN:VTIMEZONE
TZID:America/New_York
BEGIN:DAYLIGHT
TZOFFSETFROM:-0500
TZOFFSETTO:-0400
TZNAME:EDT
DTSTART:20230312T070000
END:DAYLIGHT
BEGIN:STANDARD
TZOFFSETFROM:-0400
TZOFFSETTO:-0500
TZNAME:EST
DTSTART:20231105T060000
END:STANDARD
BEGIN:DAYLIGHT
TZOFFSETFROM:-0500
TZOFFSETTO:-0400
TZNAME:EDT
DTSTART:20240310T070000
END:DAYLIGHT
BEGIN:STANDARD
TZOFFSETFROM:-0400
TZOFFSETTO:-0500
TZNAME:EST
DTSTART:20241103T060000
END:STANDARD
BEGIN:DAYLIGHT
TZOFFSETFROM:-0500
TZOFFSETTO:-0400
TZNAME:EDT
DTSTART:20250309T070000
END:DAYLIGHT
BEGIN:STANDARD
TZOFFSETFROM:-0400
TZOFFSETTO:-0500
TZNAME:EST
DTSTART:20251102T060000
END:STANDARD
END:VTIMEZONE
BEGIN:VEVENT
DTSTART;TZID=America/New_York:20240314T110000
DTEND;TZID=America/New_York:20240314T120000
DTSTAMP:20260421T180347
CREATED:20240111T161936Z
LAST-MODIFIED:20240111T161936Z
UID:9544-1710414000-1710417600@artsconnectva.org
SUMMARY:Favorite Throwbacks with Linda and Lyle Dowling
DESCRIPTION:Lyle and Linda love entertaining seniors and performing a combination of styles of music!
URL:https://artsconnectva.org/event/favorite-throwbacks-with-linda-and-lyle-dowling-3/
LOCATION:VA
CATEGORIES:Outreach Program
END:VEVENT
BEGIN:VEVENT
DTSTART;TZID=America/New_York:20240314T111500
DTEND;TZID=America/New_York:20240314T121500
DTSTAMP:20260421T180347
CREATED:20240213T230020Z
LAST-MODIFIED:20240213T230020Z
UID:9813-1710414900-1710418500@artsconnectva.org
SUMMARY:Dismal Swamp Ditch Grass Project
DESCRIPTION:Juan and Eric provide top-notch acoustic music ranging from Bluegrass to folk\, Americana to country\, classic rock to standards\, with an emphasis on harmonies and flat-picking skills!
URL:https://artsconnectva.org/event/dismal-swamp-ditch-grass-project/
LOCATION:VA
CATEGORIES:Outreach Program
END:VEVENT
BEGIN:VEVENT
DTSTART;TZID=America/New_York:20240314T130000
DTEND;TZID=America/New_York:20240314T140000
DTSTAMP:20260421T180347
CREATED:20240312T200909Z
LAST-MODIFIED:20240312T200909Z
UID:10036-1710421200-1710424800@artsconnectva.org
SUMMARY:Free Flowing Zentangle with Aekta Bandodker
DESCRIPTION:View Flyer
URL:https://artsconnectva.org/event/free-flowing-zentangle-with-aekta-bandodker/
LOCATION:VA
CATEGORIES:Outreach Program
END:VEVENT
BEGIN:VEVENT
DTSTART;TZID=America/New_York:20240314T140000
DTEND;TZID=America/New_York:20240314T150000
DTSTAMP:20260421T180347
CREATED:20231227T201635Z
LAST-MODIFIED:20231227T201635Z
UID:9409-1710424800-1710428400@artsconnectva.org
SUMMARY:Singing Songs with Tina and Jim
DESCRIPTION:Tina and Jim do interactive singalongs with favorites including jazz standards\, acoustic favorites and even some show tunes! They both have a passion for helping others heal through music and songwriting!
URL:https://artsconnectva.org/event/singing-songs-with-tina-and-jim-10/
LOCATION:VA
CATEGORIES:Outreach Program
END:VEVENT
BEGIN:VEVENT
DTSTART;TZID=America/New_York:20240314T140000
DTEND;TZID=America/New_York:20240314T150000
DTSTAMP:20260421T180347
CREATED:20240304T194031Z
LAST-MODIFIED:20240304T194031Z
UID:9959-1710424800-1710428400@artsconnectva.org
SUMMARY:Dismal Swamp Ditch Grass Project
DESCRIPTION:Juan and Eric provide top-notch acoustic music ranging from Bluegrass to folk\, Americana to country\, classic rock to standards\, with an emphasis on harmonies and flat-picking skills!
URL:https://artsconnectva.org/event/dismal-swamp-ditch-grass-project-2/
LOCATION:VA
CATEGORIES:Outreach Program
END:VEVENT
BEGIN:VEVENT
DTSTART;TZID=America/New_York:20240314T150000
DTEND;TZID=America/New_York:20240314T160000
DTSTAMP:20260421T180347
CREATED:20240216T150808Z
LAST-MODIFIED:20240216T150808Z
UID:9830-1710428400-1710432000@artsconnectva.org
SUMMARY:Celtic Harp Songs with Karen Stowe
DESCRIPTION:Enjoy this musical harp mix of Celtic songs!
URL:https://artsconnectva.org/event/celtic-harp-songs-with-karen-stowe-6/
LOCATION:VA
CATEGORIES:Outreach Program
END:VEVENT
END:VCALENDAR