BEGIN:VCALENDAR
VERSION:2.0
PRODID:-//ArtsConnect Virginia - ECPv6.15.20//NONSGML v1.0//EN
CALSCALE:GREGORIAN
METHOD:PUBLISH
X-ORIGINAL-URL:https://artsconnectva.org
X-WR-CALDESC:Events for ArtsConnect Virginia
REFRESH-INTERVAL;VALUE=DURATION:PT1H
X-Robots-Tag:noindex
X-PUBLISHED-TTL:PT1H
BEGIN:VTIMEZONE
TZID:America/New_York
BEGIN:DAYLIGHT
TZOFFSETFROM:-0500
TZOFFSETTO:-0400
TZNAME:EDT
DTSTART:20230312T070000
END:DAYLIGHT
BEGIN:STANDARD
TZOFFSETFROM:-0400
TZOFFSETTO:-0500
TZNAME:EST
DTSTART:20231105T060000
END:STANDARD
BEGIN:DAYLIGHT
TZOFFSETFROM:-0500
TZOFFSETTO:-0400
TZNAME:EDT
DTSTART:20240310T070000
END:DAYLIGHT
BEGIN:STANDARD
TZOFFSETFROM:-0400
TZOFFSETTO:-0500
TZNAME:EST
DTSTART:20241103T060000
END:STANDARD
BEGIN:DAYLIGHT
TZOFFSETFROM:-0500
TZOFFSETTO:-0400
TZNAME:EDT
DTSTART:20250309T070000
END:DAYLIGHT
BEGIN:STANDARD
TZOFFSETFROM:-0400
TZOFFSETTO:-0500
TZNAME:EST
DTSTART:20251102T060000
END:STANDARD
END:VTIMEZONE
BEGIN:VEVENT
DTSTART;TZID=America/New_York:20240306T100000
DTEND;TZID=America/New_York:20240306T110000
DTSTAMP:20260421T145448
CREATED:20240207T204605Z
LAST-MODIFIED:20240207T204605Z
UID:9793-1709719200-1709722800@artsconnectva.org
SUMMARY:Strummin' and Pickin' with Ted and Eric
DESCRIPTION:Eric and Ted perform a variety of original and traditional songs accompanying themselves on guitar and mandolin\, bluegrass\, folk\, ragtime\, novelty.
URL:https://artsconnectva.org/event/strummin-and-pickin-with-ted-and-eric-9/
LOCATION:VA
CATEGORIES:Outreach Program
END:VEVENT
BEGIN:VEVENT
DTSTART;TZID=America/New_York:20240306T130000
DTEND;TZID=America/New_York:20240306T140000
DTSTAMP:20260421T145448
CREATED:20231227T201147Z
LAST-MODIFIED:20231227T201147Z
UID:9406-1709730000-1709733600@artsconnectva.org
SUMMARY:Trumpet Tunes with Chad McGill
DESCRIPTION:View Flyer
URL:https://artsconnectva.org/event/trumpet-tunes-with-chad-mcgill-3/
LOCATION:VA
CATEGORIES:Outreach Program
END:VEVENT
BEGIN:VEVENT
DTSTART;TZID=America/New_York:20240306T140000
DTEND;TZID=America/New_York:20240306T150000
DTSTAMP:20260421T145448
CREATED:20240216T150046Z
LAST-MODIFIED:20240216T150046Z
UID:9828-1709733600-1709737200@artsconnectva.org
SUMMARY:The Classics with Jimmy G Sings
DESCRIPTION:Join Jimmy as he performs the most popular Acoustic Rock and Pop songs from the past 5 decades and today!
URL:https://artsconnectva.org/event/the-classics-with-jimmy-g-sings-3/
LOCATION:VA
CATEGORIES:Outreach Program
END:VEVENT
BEGIN:VEVENT
DTSTART;TZID=America/New_York:20240306T153000
DTEND;TZID=America/New_York:20240306T163000
DTSTAMP:20260421T145448
CREATED:20240216T152935Z
LAST-MODIFIED:20240216T154246Z
UID:9833-1709739000-1709742600@artsconnectva.org
SUMMARY:Bells with a Beat with Jean Howard
DESCRIPTION:View Flyer
URL:https://artsconnectva.org/event/bells-with-a-beat-with-jean-howard-2/
LOCATION:VA
CATEGORIES:Outreach Program
END:VEVENT
END:VCALENDAR