BEGIN:VCALENDAR
VERSION:2.0
PRODID:-//ArtsConnect Virginia - ECPv6.15.20//NONSGML v1.0//EN
CALSCALE:GREGORIAN
METHOD:PUBLISH
X-ORIGINAL-URL:https://artsconnectva.org
X-WR-CALDESC:Events for ArtsConnect Virginia
REFRESH-INTERVAL;VALUE=DURATION:PT1H
X-Robots-Tag:noindex
X-PUBLISHED-TTL:PT1H
BEGIN:VTIMEZONE
TZID:America/New_York
BEGIN:DAYLIGHT
TZOFFSETFROM:-0500
TZOFFSETTO:-0400
TZNAME:EDT
DTSTART:20230312T070000
END:DAYLIGHT
BEGIN:STANDARD
TZOFFSETFROM:-0400
TZOFFSETTO:-0500
TZNAME:EST
DTSTART:20231105T060000
END:STANDARD
BEGIN:DAYLIGHT
TZOFFSETFROM:-0500
TZOFFSETTO:-0400
TZNAME:EDT
DTSTART:20240310T070000
END:DAYLIGHT
BEGIN:STANDARD
TZOFFSETFROM:-0400
TZOFFSETTO:-0500
TZNAME:EST
DTSTART:20241103T060000
END:STANDARD
BEGIN:DAYLIGHT
TZOFFSETFROM:-0500
TZOFFSETTO:-0400
TZNAME:EDT
DTSTART:20250309T070000
END:DAYLIGHT
BEGIN:STANDARD
TZOFFSETFROM:-0400
TZOFFSETTO:-0500
TZNAME:EST
DTSTART:20251102T060000
END:STANDARD
END:VTIMEZONE
BEGIN:VEVENT
DTSTART;TZID=America/New_York:20240229T110000
DTEND;TZID=America/New_York:20240229T120000
DTSTAMP:20260421T145541
CREATED:20231228T162522Z
LAST-MODIFIED:20231228T162522Z
UID:9428-1709204400-1709208000@artsconnectva.org
SUMMARY:Beatnik Bongo with Creative Connections
DESCRIPTION:Lets make a Beatnik Bongo with Creative Connections!
URL:https://artsconnectva.org/event/beatnik-bongo-with-creative-connections/
LOCATION:VA
CATEGORIES:Outreach Program
END:VEVENT
BEGIN:VEVENT
DTSTART;TZID=America/New_York:20240229T140000
DTEND;TZID=America/New_York:20240229T150000
DTSTAMP:20260421T145541
CREATED:20240222T141647Z
LAST-MODIFIED:20240222T141647Z
UID:9881-1709215200-1709218800@artsconnectva.org
SUMMARY:Fun Drums with Jean Howard
DESCRIPTION:View Flyer
URL:https://artsconnectva.org/event/fun-drums-with-jean-howard/
LOCATION:VA
CATEGORIES:Outreach Program
END:VEVENT
END:VCALENDAR