BEGIN:VCALENDAR
VERSION:2.0
PRODID:-//ArtsConnect Virginia - ECPv6.15.20//NONSGML v1.0//EN
CALSCALE:GREGORIAN
METHOD:PUBLISH
X-ORIGINAL-URL:https://artsconnectva.org
X-WR-CALDESC:Events for ArtsConnect Virginia
REFRESH-INTERVAL;VALUE=DURATION:PT1H
X-Robots-Tag:noindex
X-PUBLISHED-TTL:PT1H
BEGIN:VTIMEZONE
TZID:America/New_York
BEGIN:DAYLIGHT
TZOFFSETFROM:-0500
TZOFFSETTO:-0400
TZNAME:EDT
DTSTART:20230312T070000
END:DAYLIGHT
BEGIN:STANDARD
TZOFFSETFROM:-0400
TZOFFSETTO:-0500
TZNAME:EST
DTSTART:20231105T060000
END:STANDARD
BEGIN:DAYLIGHT
TZOFFSETFROM:-0500
TZOFFSETTO:-0400
TZNAME:EDT
DTSTART:20240310T070000
END:DAYLIGHT
BEGIN:STANDARD
TZOFFSETFROM:-0400
TZOFFSETTO:-0500
TZNAME:EST
DTSTART:20241103T060000
END:STANDARD
BEGIN:DAYLIGHT
TZOFFSETFROM:-0500
TZOFFSETTO:-0400
TZNAME:EDT
DTSTART:20250309T070000
END:DAYLIGHT
BEGIN:STANDARD
TZOFFSETFROM:-0400
TZOFFSETTO:-0500
TZNAME:EST
DTSTART:20251102T060000
END:STANDARD
END:VTIMEZONE
BEGIN:VEVENT
DTSTART;TZID=America/New_York:20240222T140000
DTEND;TZID=America/New_York:20240222T150000
DTSTAMP:20260421T180328
CREATED:20231204T185017Z
LAST-MODIFIED:20231204T185017Z
UID:9276-1708610400-1708614000@artsconnectva.org
SUMMARY:Old Time Favorites with Tom and Rose Schlater
DESCRIPTION:Enjoy living with Tom and Rose Schlater as they play well known popular hits from 1900 to 1975!
URL:https://artsconnectva.org/event/old-time-favorites-with-tom-and-rose-schlater-6/
LOCATION:VA
CATEGORIES:Outreach Program
END:VEVENT
BEGIN:VEVENT
DTSTART;TZID=America/New_York:20240222T140000
DTEND;TZID=America/New_York:20240222T150000
DTSTAMP:20260421T180328
CREATED:20240117T182731Z
LAST-MODIFIED:20240117T182731Z
UID:9607-1708610400-1708614000@artsconnectva.org
SUMMARY:Popsicle Stick Wall Art with Adrienne Searle
DESCRIPTION:Join Adrienne in making a popsicle wall art hanger!
URL:https://artsconnectva.org/event/popsicle-stick-wall-art-with-adrienne-searle/
LOCATION:VA
CATEGORIES:Outreach Program
END:VEVENT
BEGIN:VEVENT
DTSTART;TZID=America/New_York:20240222T140000
DTEND;TZID=America/New_York:20240222T150000
DTSTAMP:20260421T180328
CREATED:20240129T194041Z
LAST-MODIFIED:20240129T194041Z
UID:9685-1708610400-1708614000@artsconnectva.org
SUMMARY:Violin Serenade with Alex Marlins
DESCRIPTION:Enjoy a beautiful violin serenade by Alex Marlins! Alex is trained in various musical styles on the violin\, including classical\, jazz\, modern/pop\, and Celtic fiddle.
URL:https://artsconnectva.org/event/violin-serenade-with-alex-marlins-15/
LOCATION:VA
CATEGORIES:Outreach Program
END:VEVENT
END:VCALENDAR