BEGIN:VCALENDAR
VERSION:2.0
PRODID:-//ArtsConnect Virginia - ECPv6.15.20//NONSGML v1.0//EN
CALSCALE:GREGORIAN
METHOD:PUBLISH
X-WR-CALNAME:ArtsConnect Virginia
X-ORIGINAL-URL:https://artsconnectva.org
X-WR-CALDESC:Events for ArtsConnect Virginia
REFRESH-INTERVAL;VALUE=DURATION:PT1H
X-Robots-Tag:noindex
X-PUBLISHED-TTL:PT1H
BEGIN:VTIMEZONE
TZID:America/New_York
BEGIN:DAYLIGHT
TZOFFSETFROM:-0500
TZOFFSETTO:-0400
TZNAME:EDT
DTSTART:20230312T070000
END:DAYLIGHT
BEGIN:STANDARD
TZOFFSETFROM:-0400
TZOFFSETTO:-0500
TZNAME:EST
DTSTART:20231105T060000
END:STANDARD
BEGIN:DAYLIGHT
TZOFFSETFROM:-0500
TZOFFSETTO:-0400
TZNAME:EDT
DTSTART:20240310T070000
END:DAYLIGHT
BEGIN:STANDARD
TZOFFSETFROM:-0400
TZOFFSETTO:-0500
TZNAME:EST
DTSTART:20241103T060000
END:STANDARD
BEGIN:DAYLIGHT
TZOFFSETFROM:-0500
TZOFFSETTO:-0400
TZNAME:EDT
DTSTART:20250309T070000
END:DAYLIGHT
BEGIN:STANDARD
TZOFFSETFROM:-0400
TZOFFSETTO:-0500
TZNAME:EST
DTSTART:20251102T060000
END:STANDARD
END:VTIMEZONE
BEGIN:VEVENT
DTSTART;TZID=America/New_York:20240213T113000
DTEND;TZID=America/New_York:20240213T123000
DTSTAMP:20260421T193510
CREATED:20240124T170254Z
LAST-MODIFIED:20240124T170254Z
UID:9646-1707823800-1707827400@artsconnectva.org
SUMMARY:Mardi Gras with Hugh Spain & Glen Lavender
DESCRIPTION:View Flyer
URL:https://artsconnectva.org/event/mardi-gras-with-hugh-spain-glen-lavender/
LOCATION:VA
CATEGORIES:Outreach Program
END:VEVENT
BEGIN:VEVENT
DTSTART;TZID=America/New_York:20240213T130000
DTEND;TZID=America/New_York:20240213T140000
DTSTAMP:20260421T193510
CREATED:20240102T180147Z
LAST-MODIFIED:20240102T180147Z
UID:9464-1707829200-1707832800@artsconnectva.org
SUMMARY:Violin Serenade with Alex Marlins
DESCRIPTION:Join Alex as she plays a beautiful violin serenade!
URL:https://artsconnectva.org/event/violin-serenade-with-alex-marlins-13/
LOCATION:VA
CATEGORIES:Outreach Program
END:VEVENT
BEGIN:VEVENT
DTSTART;TZID=America/New_York:20240213T133000
DTEND;TZID=America/New_York:20240213T143000
DTSTAMP:20260421T193510
CREATED:20231204T181935Z
LAST-MODIFIED:20231204T181935Z
UID:9266-1707831000-1707834600@artsconnectva.org
SUMMARY:Keep the Beat Social with Fletcher and Friends
DESCRIPTION:Fletcher and Friends are a guitar\, bass and drums trio that play a variety of music genres. They play old and new jazz as well as blues\, rhythm and blues\, and Latin rhythms.
URL:https://artsconnectva.org/event/keep-the-beat-social-with-fletcher-and-friends-4/
LOCATION:VA
CATEGORIES:Outreach Program
END:VEVENT
BEGIN:VEVENT
DTSTART;TZID=America/New_York:20240213T133000
DTEND;TZID=America/New_York:20240213T143000
DTSTAMP:20260421T193510
CREATED:20240124T165205Z
LAST-MODIFIED:20240124T165205Z
UID:9643-1707831000-1707834600@artsconnectva.org
SUMMARY:New Orleans Jazz with Hugh Spain & Glen Lavender
DESCRIPTION:View Flyer
URL:https://artsconnectva.org/event/new-orleans-jazz-with-hugh-spain-glen-lavender/
LOCATION:VA
CATEGORIES:Outreach Program
END:VEVENT
END:VCALENDAR