BEGIN:VCALENDAR
VERSION:2.0
PRODID:-//ArtsConnect Virginia - ECPv6.15.20//NONSGML v1.0//EN
CALSCALE:GREGORIAN
METHOD:PUBLISH
X-WR-CALNAME:ArtsConnect Virginia
X-ORIGINAL-URL:https://artsconnectva.org
X-WR-CALDESC:Events for ArtsConnect Virginia
REFRESH-INTERVAL;VALUE=DURATION:PT1H
X-Robots-Tag:noindex
X-PUBLISHED-TTL:PT1H
BEGIN:VTIMEZONE
TZID:America/New_York
BEGIN:DAYLIGHT
TZOFFSETFROM:-0500
TZOFFSETTO:-0400
TZNAME:EDT
DTSTART:20230312T070000
END:DAYLIGHT
BEGIN:STANDARD
TZOFFSETFROM:-0400
TZOFFSETTO:-0500
TZNAME:EST
DTSTART:20231105T060000
END:STANDARD
BEGIN:DAYLIGHT
TZOFFSETFROM:-0500
TZOFFSETTO:-0400
TZNAME:EDT
DTSTART:20240310T070000
END:DAYLIGHT
BEGIN:STANDARD
TZOFFSETFROM:-0400
TZOFFSETTO:-0500
TZNAME:EST
DTSTART:20241103T060000
END:STANDARD
BEGIN:DAYLIGHT
TZOFFSETFROM:-0500
TZOFFSETTO:-0400
TZNAME:EDT
DTSTART:20250309T070000
END:DAYLIGHT
BEGIN:STANDARD
TZOFFSETFROM:-0400
TZOFFSETTO:-0500
TZNAME:EST
DTSTART:20251102T060000
END:STANDARD
END:VTIMEZONE
BEGIN:VEVENT
DTSTART;TZID=America/New_York:20240112T140000
DTEND;TZID=America/New_York:20240112T150000
DTSTAMP:20260421T205738
CREATED:20231214T155528Z
LAST-MODIFIED:20231214T160101Z
UID:9301-1705068000-1705071600@artsconnectva.org
SUMMARY:Painting like Picasso with Creative Connections
DESCRIPTION:Let’s paint like Picasso with creative connections!
URL:https://artsconnectva.org/event/painting-like-picasso-with-creative-connections/
LOCATION:VA
CATEGORIES:Outreach Program
END:VEVENT
BEGIN:VEVENT
DTSTART;TZID=America/New_York:20240112T140000
DTEND;TZID=America/New_York:20240112T150000
DTSTAMP:20260421T205738
CREATED:20231219T170542Z
LAST-MODIFIED:20231219T170542Z
UID:9367-1705068000-1705071600@artsconnectva.org
SUMMARY:Old Time Favorites with Tom and Rose Schlater
DESCRIPTION:Enjoy living with Tom and Rose Schlater as they play well known popular hits from 1900 to 1975!
URL:https://artsconnectva.org/event/old-time-favorites-with-tom-and-rose-schlater-7/
LOCATION:VA
CATEGORIES:Outreach Program
END:VEVENT
BEGIN:VEVENT
DTSTART;TZID=America/New_York:20240112T140000
DTEND;TZID=America/New_York:20240112T150000
DTSTAMP:20260421T205738
CREATED:20231228T201041Z
LAST-MODIFIED:20231228T201041Z
UID:9430-1705068000-1705071600@artsconnectva.org
SUMMARY:All of the Favorites with Dan Smith
DESCRIPTION:Enjoy live performance of popular music from the 1940s\, 1950s and 1960s featuring big band\, classic country\, Elvis Presley\, Pat Boone\, and other icons of the era.
URL:https://artsconnectva.org/event/all-of-the-favorites-with-dan-smith-26/
LOCATION:VA
CATEGORIES:Outreach Program
END:VEVENT
BEGIN:VEVENT
DTSTART;TZID=America/New_York:20240112T140000
DTEND;TZID=America/New_York:20240112T150000
DTSTAMP:20260421T205738
CREATED:20240102T173537Z
LAST-MODIFIED:20240102T173537Z
UID:9451-1705068000-1705071600@artsconnectva.org
SUMMARY:All of the Favorites with Adreinne and Jamie
DESCRIPTION:Join Adrienne and Jamie as they play your favorite throwback tunes!
URL:https://artsconnectva.org/event/all-of-the-favorites-with-adreinne-and-jamie-2/
LOCATION:VA
CATEGORIES:Outreach Program
END:VEVENT
BEGIN:VEVENT
DTSTART;TZID=America/New_York:20240112T140000
DTEND;TZID=America/New_York:20240112T150000
DTSTAMP:20260421T205738
CREATED:20240102T173925Z
LAST-MODIFIED:20240102T173925Z
UID:9453-1705068000-1705071600@artsconnectva.org
SUMMARY:Happy Hour with Tracy Stover
DESCRIPTION:Enjoy listening to your favorite Appalachian Roots\, Bluegrass\, and Contemporary folk music!
URL:https://artsconnectva.org/event/happy-hour-with-tracy-stover-3/
LOCATION:VA
CATEGORIES:Outreach Program
END:VEVENT
BEGIN:VEVENT
DTSTART;TZID=America/New_York:20240112T150000
DTEND;TZID=America/New_York:20240112T160000
DTSTAMP:20260421T205738
CREATED:20231219T160240Z
LAST-MODIFIED:20231219T160240Z
UID:9357-1705071600-1705075200@artsconnectva.org
SUMMARY:Trumpet Tunes with Chad McGill
DESCRIPTION:Join Chad as he plays a variety of music on the trumpet! From light jazz to The Beatles\, you will find his music has something for everyone!
URL:https://artsconnectva.org/event/trumpet-tunes-with-chad-mcgill-2/
LOCATION:VA
CATEGORIES:Outreach Program
END:VEVENT
BEGIN:VEVENT
DTSTART;TZID=America/New_York:20240112T163000
DTEND;TZID=America/New_York:20240112T173000
DTSTAMP:20260421T205738
CREATED:20231204T174009Z
LAST-MODIFIED:20231204T174009Z
UID:9256-1705077000-1705080600@artsconnectva.org
SUMMARY:Birthday Celebration with Dan Smith
DESCRIPTION:Enjoy live performance of popular music from the 1940s\, 1950s and 1960s featuring big band\, classic country\, Elvis Presley\, Pat Boone\, and other icons of the era.
URL:https://artsconnectva.org/event/birthday-celebration-with-dan-smith/
LOCATION:VA
CATEGORIES:Outreach Program
END:VEVENT
END:VCALENDAR