BEGIN:VCALENDAR
VERSION:2.0
PRODID:-//ArtsConnect Virginia - ECPv6.15.20//NONSGML v1.0//EN
CALSCALE:GREGORIAN
METHOD:PUBLISH
X-ORIGINAL-URL:https://artsconnectva.org
X-WR-CALDESC:Events for ArtsConnect Virginia
REFRESH-INTERVAL;VALUE=DURATION:PT1H
X-Robots-Tag:noindex
X-PUBLISHED-TTL:PT1H
BEGIN:VTIMEZONE
TZID:America/New_York
BEGIN:DAYLIGHT
TZOFFSETFROM:-0500
TZOFFSETTO:-0400
TZNAME:EDT
DTSTART:20230312T070000
END:DAYLIGHT
BEGIN:STANDARD
TZOFFSETFROM:-0400
TZOFFSETTO:-0500
TZNAME:EST
DTSTART:20231105T060000
END:STANDARD
BEGIN:DAYLIGHT
TZOFFSETFROM:-0500
TZOFFSETTO:-0400
TZNAME:EDT
DTSTART:20240310T070000
END:DAYLIGHT
BEGIN:STANDARD
TZOFFSETFROM:-0400
TZOFFSETTO:-0500
TZNAME:EST
DTSTART:20241103T060000
END:STANDARD
BEGIN:DAYLIGHT
TZOFFSETFROM:-0500
TZOFFSETTO:-0400
TZNAME:EDT
DTSTART:20250309T070000
END:DAYLIGHT
BEGIN:STANDARD
TZOFFSETFROM:-0400
TZOFFSETTO:-0500
TZNAME:EST
DTSTART:20251102T060000
END:STANDARD
END:VTIMEZONE
BEGIN:VEVENT
DTSTART;TZID=America/New_York:20240109T103000
DTEND;TZID=America/New_York:20240109T113000
DTSTAMP:20260421T205952
CREATED:20231127T202023Z
LAST-MODIFIED:20231127T202023Z
UID:9201-1704796200-1704799800@artsconnectva.org
SUMMARY:Vision Boards with Aekta Bandodker
DESCRIPTION:Join Aekta as she guides you through a fun and creative vision board program!
URL:https://artsconnectva.org/event/vision-boards-with-aekta-bandodker-3/
LOCATION:VA
CATEGORIES:Outreach Program
END:VEVENT
BEGIN:VEVENT
DTSTART;TZID=America/New_York:20240109T133000
DTEND;TZID=America/New_York:20240109T143000
DTSTAMP:20260421T205952
CREATED:20231025T202601Z
LAST-MODIFIED:20231025T202601Z
UID:8825-1704807000-1704810600@artsconnectva.org
SUMMARY:Keep the Beat Social with Art Rowe
DESCRIPTION:Join Art as he plays classic rock and country hits! \n 
URL:https://artsconnectva.org/event/keep-the-beat-social-with-art-rowe-6/
LOCATION:VA
CATEGORIES:Outreach Program
END:VEVENT
BEGIN:VEVENT
DTSTART;TZID=America/New_York:20240109T140000
DTEND;TZID=America/New_York:20240109T150000
DTSTAMP:20260421T205952
CREATED:20231204T173604Z
LAST-MODIFIED:20231204T173604Z
UID:9254-1704808800-1704812400@artsconnectva.org
SUMMARY:Chair Fitness with Vanessa Golson
DESCRIPTION:Chair Fitness is a fun\, effective\, seated\, low intensity\, physical movement experience enhanced by upbeat music.
URL:https://artsconnectva.org/event/chair-fitness-with-vanessa-golson-7/
LOCATION:VA
CATEGORIES:Outreach Program
END:VEVENT
BEGIN:VEVENT
DTSTART;TZID=America/New_York:20240109T140000
DTEND;TZID=America/New_York:20240109T150000
DTSTAMP:20260421T205952
CREATED:20231214T145930Z
LAST-MODIFIED:20231214T145930Z
UID:9291-1704808800-1704812400@artsconnectva.org
SUMMARY:Throwbacks with Bryan Martin
DESCRIPTION:Join Bryan for all of these fun sing-a-longs from the 60s -2000s. Bryan will be singing country\, rock\, bluegrass and spirituals!
URL:https://artsconnectva.org/event/throwbacks-with-bryan-martin-4/
LOCATION:VA
CATEGORIES:Outreach Program
END:VEVENT
END:VCALENDAR