BEGIN:VCALENDAR
VERSION:2.0
PRODID:-//ArtsConnect Virginia - ECPv6.15.20//NONSGML v1.0//EN
CALSCALE:GREGORIAN
METHOD:PUBLISH
X-WR-CALNAME:ArtsConnect Virginia
X-ORIGINAL-URL:https://artsconnectva.org
X-WR-CALDESC:Events for ArtsConnect Virginia
REFRESH-INTERVAL;VALUE=DURATION:PT1H
X-Robots-Tag:noindex
X-PUBLISHED-TTL:PT1H
BEGIN:VTIMEZONE
TZID:America/New_York
BEGIN:DAYLIGHT
TZOFFSETFROM:-0500
TZOFFSETTO:-0400
TZNAME:EDT
DTSTART:20220313T070000
END:DAYLIGHT
BEGIN:STANDARD
TZOFFSETFROM:-0400
TZOFFSETTO:-0500
TZNAME:EST
DTSTART:20221106T060000
END:STANDARD
BEGIN:DAYLIGHT
TZOFFSETFROM:-0500
TZOFFSETTO:-0400
TZNAME:EDT
DTSTART:20230312T070000
END:DAYLIGHT
BEGIN:STANDARD
TZOFFSETFROM:-0400
TZOFFSETTO:-0500
TZNAME:EST
DTSTART:20231105T060000
END:STANDARD
BEGIN:DAYLIGHT
TZOFFSETFROM:-0500
TZOFFSETTO:-0400
TZNAME:EDT
DTSTART:20240310T070000
END:DAYLIGHT
BEGIN:STANDARD
TZOFFSETFROM:-0400
TZOFFSETTO:-0500
TZNAME:EST
DTSTART:20241103T060000
END:STANDARD
END:VTIMEZONE
BEGIN:VEVENT
DTSTART;TZID=America/New_York:20231207T111500
DTEND;TZID=America/New_York:20231207T121500
DTSTAMP:20260421T221909
CREATED:20230927T162953Z
LAST-MODIFIED:20230927T162953Z
UID:8638-1701947700-1701951300@artsconnectva.org
SUMMARY:Frank Sings Frank
DESCRIPTION:Frank Sings Frank (Frank Cubillo) is a local Hampton Roads Frank Sinatra Tribute singer/entertainment act! Join him as he plays your favorite Frank Sinatra tunes!
URL:https://artsconnectva.org/event/frank-sings-frank/
LOCATION:VA
CATEGORIES:Outreach Program
END:VEVENT
BEGIN:VEVENT
DTSTART;TZID=America/New_York:20231207T113000
DTEND;TZID=America/New_York:20231207T123000
DTSTAMP:20260421T221909
CREATED:20231109T182842Z
LAST-MODIFIED:20231109T182842Z
UID:8900-1701948600-1701952200@artsconnectva.org
SUMMARY:Ornament Decorating with Stephanie Slate
DESCRIPTION:Let’s get in the Christmas spirit! Join Stephanie as she helps you make some beautiful wood ornaments!
URL:https://artsconnectva.org/event/ornament-decorating-with-stephanie-slate/
LOCATION:VA
CATEGORIES:Outreach Program
END:VEVENT
BEGIN:VEVENT
DTSTART;TZID=America/New_York:20231207T120000
DTEND;TZID=America/New_York:20231207T130000
DTSTAMP:20260421T221909
CREATED:20231124T152108Z
LAST-MODIFIED:20231124T152108Z
UID:9054-1701950400-1701954000@artsconnectva.org
SUMMARY:Motown and Christmas Favorites with Richard Mekdeci
DESCRIPTION:Richard is going to be playing all of your favorite Motown tunes. You are going to love this fun and upbeat program!
URL:https://artsconnectva.org/event/motown-and-christmas-favorites-with-richard-mekdeci/
LOCATION:VA
CATEGORIES:Outreach Program
END:VEVENT
BEGIN:VEVENT
DTSTART;TZID=America/New_York:20231207T140000
DTEND;TZID=America/New_York:20231207T150000
DTSTAMP:20260421T221909
CREATED:20231127T202438Z
LAST-MODIFIED:20231127T202438Z
UID:9203-1701957600-1701961200@artsconnectva.org
SUMMARY:Holiday Favorites with Denise McCleese
DESCRIPTION:Join Denise for your favorite Christmas Sing-A-Longs!
URL:https://artsconnectva.org/event/holiday-favorites-with-denise-mccleese/
LOCATION:VA
CATEGORIES:Outreach Program
END:VEVENT
END:VCALENDAR