BEGIN:VCALENDAR
VERSION:2.0
PRODID:-//ArtsConnect Virginia - ECPv6.15.20//NONSGML v1.0//EN
CALSCALE:GREGORIAN
METHOD:PUBLISH
X-ORIGINAL-URL:https://artsconnectva.org
X-WR-CALDESC:Events for ArtsConnect Virginia
REFRESH-INTERVAL;VALUE=DURATION:PT1H
X-Robots-Tag:noindex
X-PUBLISHED-TTL:PT1H
BEGIN:VTIMEZONE
TZID:America/New_York
BEGIN:DAYLIGHT
TZOFFSETFROM:-0500
TZOFFSETTO:-0400
TZNAME:EDT
DTSTART:20220313T070000
END:DAYLIGHT
BEGIN:STANDARD
TZOFFSETFROM:-0400
TZOFFSETTO:-0500
TZNAME:EST
DTSTART:20221106T060000
END:STANDARD
BEGIN:DAYLIGHT
TZOFFSETFROM:-0500
TZOFFSETTO:-0400
TZNAME:EDT
DTSTART:20230312T070000
END:DAYLIGHT
BEGIN:STANDARD
TZOFFSETFROM:-0400
TZOFFSETTO:-0500
TZNAME:EST
DTSTART:20231105T060000
END:STANDARD
BEGIN:DAYLIGHT
TZOFFSETFROM:-0500
TZOFFSETTO:-0400
TZNAME:EDT
DTSTART:20240310T070000
END:DAYLIGHT
BEGIN:STANDARD
TZOFFSETFROM:-0400
TZOFFSETTO:-0500
TZNAME:EST
DTSTART:20241103T060000
END:STANDARD
END:VTIMEZONE
BEGIN:VEVENT
DTSTART;TZID=America/New_York:20231201T140000
DTEND;TZID=America/New_York:20231201T150000
DTSTAMP:20260422T013324
CREATED:20231109T181507Z
LAST-MODIFIED:20231109T181507Z
UID:8894-1701439200-1701442800@artsconnectva.org
SUMMARY:All of the Favorites with Tina and Jim
DESCRIPTION:Tina and Jim provide interactive singalongs with favorites including jazz standards\, acoustic favorites\, and even some show tunes! \n  \n  \n  \n 
URL:https://artsconnectva.org/event/all-of-the-favorites-with-tina-and-jim-4/
LOCATION:VA
CATEGORIES:Outreach Program
END:VEVENT
BEGIN:VEVENT
DTSTART;TZID=America/New_York:20231201T143000
DTEND;TZID=America/New_York:20231201T153000
DTSTAMP:20260422T013324
CREATED:20230913T174004Z
LAST-MODIFIED:20230913T174004Z
UID:8522-1701441000-1701444600@artsconnectva.org
SUMMARY:Christmas Favorites with Karen Stowe
DESCRIPTION:Join Karen as she plays some of your favorites Christmas tunes on the harp! This will be a beautiful fall themed program!
URL:https://artsconnectva.org/event/christmas-favorites-with-karen-stowe-2/
LOCATION:VA
CATEGORIES:Outreach Program
END:VEVENT
BEGIN:VEVENT
DTSTART;TZID=America/New_York:20231201T153000
DTEND;TZID=America/New_York:20231201T163000
DTSTAMP:20260422T013324
CREATED:20231114T200510Z
LAST-MODIFIED:20231114T200510Z
UID:8925-1701444600-1701448200@artsconnectva.org
SUMMARY:Christmas Rock with Art Rowe
DESCRIPTION:Join Art as he plays classic rock and Christmas hits!
URL:https://artsconnectva.org/event/christmas-rock-with-art-rowe/
LOCATION:VA
CATEGORIES:Outreach Program
END:VEVENT
END:VCALENDAR