BEGIN:VCALENDAR
VERSION:2.0
PRODID:-//ArtsConnect Virginia - ECPv6.15.20//NONSGML v1.0//EN
CALSCALE:GREGORIAN
METHOD:PUBLISH
X-WR-CALNAME:ArtsConnect Virginia
X-ORIGINAL-URL:https://artsconnectva.org
X-WR-CALDESC:Events for ArtsConnect Virginia
REFRESH-INTERVAL;VALUE=DURATION:PT1H
X-Robots-Tag:noindex
X-PUBLISHED-TTL:PT1H
BEGIN:VTIMEZONE
TZID:America/New_York
BEGIN:DAYLIGHT
TZOFFSETFROM:-0500
TZOFFSETTO:-0400
TZNAME:EDT
DTSTART:20220313T070000
END:DAYLIGHT
BEGIN:STANDARD
TZOFFSETFROM:-0400
TZOFFSETTO:-0500
TZNAME:EST
DTSTART:20221106T060000
END:STANDARD
BEGIN:DAYLIGHT
TZOFFSETFROM:-0500
TZOFFSETTO:-0400
TZNAME:EDT
DTSTART:20230312T070000
END:DAYLIGHT
BEGIN:STANDARD
TZOFFSETFROM:-0400
TZOFFSETTO:-0500
TZNAME:EST
DTSTART:20231105T060000
END:STANDARD
BEGIN:DAYLIGHT
TZOFFSETFROM:-0500
TZOFFSETTO:-0400
TZNAME:EDT
DTSTART:20240310T070000
END:DAYLIGHT
BEGIN:STANDARD
TZOFFSETFROM:-0400
TZOFFSETTO:-0500
TZNAME:EST
DTSTART:20241103T060000
END:STANDARD
END:VTIMEZONE
BEGIN:VEVENT
DTSTART;TZID=America/New_York:20231031T100000
DTEND;TZID=America/New_York:20231031T110000
DTSTAMP:20260422T000620
CREATED:20231010T153336Z
LAST-MODIFIED:20231010T153336Z
UID:8722-1698746400-1698750000@artsconnectva.org
SUMMARY:Halloween Party with Cory Laser
DESCRIPTION:Famous hits from 50s\, 60s 70s that everyone knows and can easily sing along.
URL:https://artsconnectva.org/event/halloween-party-with-cory-laser/
LOCATION:VA
CATEGORIES:Outreach Program
END:VEVENT
BEGIN:VEVENT
DTSTART;TZID=America/New_York:20231031T103000
DTEND;TZID=America/New_York:20231031T113000
DTSTAMP:20260422T000620
CREATED:20230809T154144Z
LAST-MODIFIED:20230809T154144Z
UID:8134-1698748200-1698751800@artsconnectva.org
SUMMARY:Halloween Party with Linda and Lyle Dowling
DESCRIPTION:Lyle and Linda love entertaining seniors and performing a combination of style! The Genre of songs they sing include a variety of artists as well\, something to please everyone!
URL:https://artsconnectva.org/event/halloween-party-with-linda-and-lyle-dowling/
LOCATION:VA
CATEGORIES:Outreach Program
END:VEVENT
BEGIN:VEVENT
DTSTART;TZID=America/New_York:20231031T140000
DTEND;TZID=America/New_York:20231031T150000
DTSTAMP:20260422T000620
CREATED:20230803T160650Z
LAST-MODIFIED:20230803T160650Z
UID:8060-1698760800-1698764400@artsconnectva.org
SUMMARY:Smiles and Singing with David and Art
DESCRIPTION:David and Art’s sole objective is to interact with the audience via talking and singing with them and most important putting a “Smile” on their Face! They will be singing a variety of music including country and classic rock.
URL:https://artsconnectva.org/event/smiles-and-singing-with-david-and-art/
LOCATION:VA
CATEGORIES:Outreach Program
END:VEVENT
BEGIN:VEVENT
DTSTART;TZID=America/New_York:20231031T140000
DTEND;TZID=America/New_York:20231031T150000
DTSTAMP:20260422T000620
CREATED:20230824T170139Z
LAST-MODIFIED:20230824T170139Z
UID:8314-1698760800-1698764400@artsconnectva.org
SUMMARY:Painting Ceramic Skull with Creative Connections
DESCRIPTION:Join Tina and Mike as they help you make a Halloween ceramic skull!
URL:https://artsconnectva.org/event/painting-ceramic-skull-with-creative-connections/
LOCATION:VA
CATEGORIES:Outreach Program
END:VEVENT
BEGIN:VEVENT
DTSTART;TZID=America/New_York:20231031T140000
DTEND;TZID=America/New_York:20231031T150000
DTSTAMP:20260422T000620
CREATED:20230828T185620Z
LAST-MODIFIED:20230828T185620Z
UID:8353-1698760800-1698764400@artsconnectva.org
SUMMARY:Halloween Tunes with Dan Smith
DESCRIPTION:Join Dan for this Halloween fun program! What a perfect way to celebrate spooky season!
URL:https://artsconnectva.org/event/halloween-tunes-with-dan-smith/
LOCATION:VA
CATEGORIES:Outreach Program
END:VEVENT
BEGIN:VEVENT
DTSTART;TZID=America/New_York:20231031T140000
DTEND;TZID=America/New_York:20231031T150000
DTSTAMP:20260422T000620
CREATED:20230914T161653Z
LAST-MODIFIED:20230914T161653Z
UID:8543-1698760800-1698764400@artsconnectva.org
SUMMARY:Chair Fitness with Vanessa Golson
DESCRIPTION:Chair Fitness is a fun\, effective\, seated\, low intensity\, physical movement experience enhanced by upbeat music.
URL:https://artsconnectva.org/event/chair-fitness-with-vanessa-golson-6/
LOCATION:VA
CATEGORIES:Outreach Program
END:VEVENT
BEGIN:VEVENT
DTSTART;TZID=America/New_York:20231031T140000
DTEND;TZID=America/New_York:20231031T150000
DTSTAMP:20260422T000620
CREATED:20231003T175035Z
LAST-MODIFIED:20231003T175035Z
UID:8674-1698760800-1698764400@artsconnectva.org
SUMMARY:Halloween Social with Tom and Rose Schlater
DESCRIPTION:Enjoy listening to well-known popular hits from 1900 to 1975!
URL:https://artsconnectva.org/event/halloween-social-with-tom-and-rose-schlater/
LOCATION:VA
CATEGORIES:Outreach Program
END:VEVENT
BEGIN:VEVENT
DTSTART;TZID=America/New_York:20231031T143000
DTEND;TZID=America/New_York:20231031T153000
DTSTAMP:20260422T000620
CREATED:20230918T182933Z
LAST-MODIFIED:20230918T182933Z
UID:8555-1698762600-1698766200@artsconnectva.org
SUMMARY:Music\, Motown\, and More! with Richard Mekdeci
DESCRIPTION:Richard Mekdeci (mek-dee-see) is an award-winning songwriter and musician and a 22-year veteran of the Nashville songwriting community. He has produced\, written\, and recorded with such artists as Roseanne Cash\, Kathy Mattea\, Patty Loveless\, and others.
URL:https://artsconnectva.org/event/music-motown-and-more-with-richard-mekdeci-21/
LOCATION:VA
CATEGORIES:Outreach Program
END:VEVENT
END:VCALENDAR